Back to the "Multiple platform build/check report"
| Package 187/214 | Hostname | OS | Arch | BUILD | CHECK | BUILD BIN |
SemSim1.2.0Xiang GuoLast Changed Date: 2007-04-24 11:21:48 -0700 Last Changed Rev: 24214 | lamb1 | Linux (SUSE 10.1) | x86_64 | OK | OK | |
| wellington | Linux (SUSE 9.2) | i686 | OK | OK | ||
| churchill | Solaris 2.9 | sparc | OK | OK | ||
| lemming | Windows Server 2003 (32-bit) | x64 | OK | OK | OK | |
| liverpool | Windows Server 2003 R2 (32-bit) | x64 | OK | OK | [ OK ] | |
| derby | Mac OS X (10.4.9) | i686 | OK | OK |
| Package: SemSim |
| Version: 1.2.0 |
| Command: E:\biocbld\bbs-2.0-bioc\R\bin\R.exe CMD INSTALL --build --library=SemSim.BUILDBINinstdir SemSim_1.2.0.tar.gz |
| RetCode: 0 |
| Time: 16.0 seconds |
| Status: OK |
| PackageFile: SemSim_1.2.0.zip |
installing R.css in E:/biocbld/bbs-2.0-bioc/meat/SemSim.BUILDBINinstdir
Using auto-selected zip options 'SemSim-ZIPDATA=zip'
---------- Making package SemSim ------------
adding build stamp to DESCRIPTION
installing R files
installing inst files
installing data files
installing man source files
installing indices
zipping data
installing help
>>> Building/Updating help pages for package 'SemSim'
Formats: text html latex example chm
GOCount text html latex chm
Schreiber text html latex example chm
SemSim-internal text html latex chm
SemSim-package text html latex chm
geneSim text html latex example chm
mgeneSim text html latex example chm
mtermSim text html latex example chm
termSim text html latex example chm
Microsoft HTML Help Compiler 4.74.8702
Compiling e:\biocbld\bbs-2.0-bioc\meat\R.INSTALL.6120\SemSim\chm\SemSim.chm
Compile time: 0 minutes, 0 seconds
9 Topics
25 Local links
0 Internet links
1 Graphic
Created e:\biocbld\bbs-2.0-bioc\meat\R.INSTALL.6120\SemSim\chm\SemSim.chm, 23,353 bytes
Compression decreased file by 1,027 bytes.
adding MD5 sums
packaged installation of package 'SemSim' as SemSim_1.2.0.zip
* DONE (SemSim)