Back to the "Multiple platform build/check report"
| Package 185/214 | Hostname | OS | Arch | BUILD | CHECK | BUILD BIN |
SBMLR1.30.0Tomas RadivoyevitchLast Changed Date: 2007-04-24 11:21:48 -0700 Last Changed Rev: 24214 | lamb1 | Linux (SUSE 10.1) | x86_64 | OK | OK | |
| wellington | Linux (SUSE 9.2) | i686 | [ OK ] | OK | ||
| churchill | Solaris 2.9 | sparc | OK | ERROR | ||
| lemming | Windows Server 2003 (32-bit) | x64 | OK | OK | OK | |
| liverpool | Windows Server 2003 R2 (32-bit) | x64 | OK | OK | OK | |
| derby | Mac OS X (10.4.9) | i686 | OK | OK |
| Package: SBMLR |
| Version: 1.30.0 |
| Command: /loc/biocbuild/bbs-2.0-bioc/R/bin/R CMD build SBMLR |
| RetCode: 0 |
| Time: 2.8 seconds |
| Status: OK |
| PackageFile: SBMLR_1.30.0.tar.gz |
* checking for file 'SBMLR/DESCRIPTION' ... OK * preparing 'SBMLR': * checking DESCRIPTION meta-information ... OK * removing junk files * checking for LF line-endings in source files * checking for empty or unneeded directories * building 'SBMLR_1.30.0.tar.gz'