Back to the "Multiple platform build/check report"
| Package 169/214 | Hostname | OS | Arch | BUILD | CHECK | BUILD BIN | 
| RefPlus1.4.0Kai-Ming ChangLast Changed Date: 2007-04-24 11:21:48 -0700 Last Changed Rev: 24214 | lamb1 | Linux (SUSE 10.1) | x86_64 | OK | OK | |
| wellington | Linux (SUSE 9.2) | i686 | OK | [ OK ] | ||
| churchill | Solaris 2.9 | sparc | OK | OK | ||
| lemming | Windows Server 2003 (32-bit) | x64 | OK | OK | OK | |
| liverpool | Windows Server 2003 R2 (32-bit) | x64 | OK | OK | OK | |
| derby | Mac OS X (10.4.9) | i686 | OK | OK | 
| Package: RefPlus | 
| Version: 1.4.0 | 
| Command: /loc/biocbuild/bbs-2.0-bioc/R/bin/R CMD check RefPlus_1.4.0.tar.gz | 
| RetCode: 0 | 
| Time: 369.6 seconds | 
| Status: OK | 
| CheckDir: RefPlus.Rcheck | 
| Warnings: 0 | 
* checking for working latex ... OK * using log directory '/extra/loc/biocbuild/bbs-2.0-bioc/meat/RefPlus.Rcheck' * using R version 2.5.0 (2007-04-23) * checking for file 'RefPlus/DESCRIPTION' ... OK * checking extension type ... Package * this is package 'RefPlus' version '1.4.0' * checking package dependencies ... OK * checking if this is a source package ... OK * checking whether package 'RefPlus' can be installed ... OK * checking package directory ... OK * checking for portable file names ... OK * checking for sufficient/correct file permissions ... OK * checking DESCRIPTION meta-information ... OK * checking top-level files ... OK * checking index information ... OK * checking package subdirectories ... OK * checking R files for non-ASCII characters ... OK * checking R files for syntax errors ... OK * checking whether the package can be loaded ... OK * checking whether the package can be loaded with stated dependencies ... OK * checking for unstated dependencies in R code ... OK * checking S3 generic/method consistency ... OK * checking replacement functions ... OK * checking foreign function calls ... OK * checking R code for possible problems ... OK * checking Rd files ... OK * checking Rd cross-references ... OK * checking for missing documentation entries ... OK * checking for code/documentation mismatches ... OK * checking Rd \usage sections ... OK * creating RefPlus-Ex.R ... OK * checking examples ... OK * checking package vignettes in 'inst/doc' ... OK * creating RefPlus-manual.tex ... OK * checking RefPlus-manual.tex ... OK
RefPlus.Rcheck/00install.out:
* Installing *source* package 'RefPlus' ...
** R
** inst
** help
 >>> Building/Updating help pages for package 'RefPlus'
     Formats: text html latex example 
  RefPlus-package                   text    html    latex   example
  colMedians                        text    html    latex   example
  normalize.quantiles2              text    html    latex   example
  rma.para                          text    html    latex   example
  rmaplus                           text    html    latex   example
  rmaref.predict                    text    html    latex   example
** building package indices ...
* DONE (RefPlus)