Back to the "Multiple platform build/check report"
| Package 181/214 | Hostname | OS | Arch | BUILD | CHECK | BUILD BIN |
RWebServices1.0.0Biocore TeamLast Changed Date: 2007-04-24 11:21:48 -0700 Last Changed Rev: 24214 | lamb1 | Linux (SUSE 10.1) | x86_64 | OK | OK | |
| wellington | Linux (SUSE 9.2) | i686 | [ OK ] | OK | ||
| churchill | Solaris 2.9 | sparc | ERROR | skipped | ||
| lemming | Windows Server 2003 (32-bit) | x64 | ERROR | skipped | skipped | |
| liverpool | Windows Server 2003 R2 (32-bit) | x64 | ERROR | skipped | skipped | |
| derby | Mac OS X (10.4.9) | i686 | ERROR | skipped |
| Package: RWebServices |
| Version: 1.0.0 |
| Command: /loc/biocbuild/bbs-2.0-bioc/R/bin/R CMD build RWebServices |
| RetCode: 0 |
| Time: 43.2 seconds |
| Status: OK |
| PackageFile: RWebServices_1.0.0.tar.gz |
* checking for file 'RWebServices/DESCRIPTION' ... OK
* preparing 'RWebServices':
* checking DESCRIPTION meta-information ... OK
* cleaning src
* running cleanup
rm: cannot remove `config.log': No such file or directory
rm: cannot remove `config.status': No such file or directory
rm: cannot remove `inst/scripts/RWebServicesEnv.properties': No such file or directory
* installing the package to re-build vignettes
* Installing *source* package 'RWebServices' ...
Guessing SJava home: /tmp/Rinst2902147743/SJava
configure: creating ./config.status
config.status: creating inst/scripts/RWebServicesEnv.properties
** libs
gcc -std=gnu99 -I/loc/biocbuild/bbs-2.0-bioc/R/include -I/loc/biocbuild/bbs-2.0-bioc/R/include -I/usr/local/include -fpic -g -O2 -Wall -c init.c -o init.o
gcc -std=gnu99 -I/loc/biocbuild/bbs-2.0-bioc/R/include -I/loc/biocbuild/bbs-2.0-bioc/R/include -I/usr/local/include -fpic -g -O2 -Wall -c RWebServicesConverters.c -o RWebServicesConverters.o
gcc -std=gnu99 -shared -L/usr/local/lib -o RWebServices.so init.o RWebServicesConverters.o -L/loc/biocbuild/bbs-2.0-bioc/R/lib -lR
** R
** inst
** preparing package for lazy loading
Loading required package: SJava
Loading required package: TypeInfo
Loading required package: tools
** help
>>> Building/Updating help pages for package 'RWebServices'
Formats: text html latex example
ArrayAndMatrix-class text html latex example
RJavaPkgFunctions-class text html latex example
RJavaSignature-class text html latex example
RWebServices.package text html latex example
SinkOutput-class text html latex example
converters text html latex example
createMap text html latex example
generateDataMap text html latex example
generateDataTest text html latex example
generateFunctionMap text html latex example
importDataCvt text html latex example
printLookup text html latex example
sinkSetup text html latex example
testUtils text html latex example
typeInfo2Java text html latex example
unpackAntScript text html latex example
** building package indices ...
* DONE (RWebServices)
* creating vignettes ... OK
* cleaning src
* running cleanup
* removing junk files
* checking for LF line-endings in source files
* checking for empty or unneeded directories
* building 'RWebServices_1.0.0.tar.gz'