Back to the "Multiple platform build/check report"
| Package 179/214 | Hostname | OS | Arch | BUILD | CHECK | BUILD BIN |
RSNPper1.10.0VJ CareyLast Changed Date: 2007-04-24 11:21:48 -0700 Last Changed Rev: 24214 | lamb1 | Linux (SUSE 10.1) | x86_64 | OK | OK | |
| wellington | Linux (SUSE 9.2) | i686 | OK | OK | ||
| churchill | Solaris 2.9 | sparc | ERROR | skipped | ||
| lemming | Windows Server 2003 (32-bit) | x64 | OK | OK | OK | |
| liverpool | Windows Server 2003 R2 (32-bit) | x64 | OK | OK | [ OK ] | |
| derby | Mac OS X (10.4.9) | i686 | OK | OK |
| Package: RSNPper |
| Version: 1.10.0 |
| Command: E:\biocbld\bbs-2.0-bioc\R\bin\R.exe CMD INSTALL --build --library=RSNPper.BUILDBINinstdir RSNPper_1.10.0.tar.gz |
| RetCode: 0 |
| Time: 14.0 seconds |
| Status: OK |
| PackageFile: RSNPper_1.10.0.zip |
installing R.css in E:/biocbld/bbs-2.0-bioc/meat/RSNPper.BUILDBINinstdir
Using auto-selected zip options ''
---------- Making package RSNPper ------------
adding build stamp to DESCRIPTION
installing NAMESPACE file and metadata
installing R files
installing inst files
installing man source files
installing indices
installing help
>>> Building/Updating help pages for package 'RSNPper'
Formats: text html latex example chm
SNPperMeta-class text html latex example chm
geneInfo text html latex example chm
Microsoft HTML Help Compiler 4.74.8702
Compiling e:\biocbld\bbs-2.0-bioc\meat\R.INSTALL.5688\RSNPper\chm\RSNPper.chm
Compile time: 0 minutes, 0 seconds
3 Topics
34 Local links
0 Internet links
1 Graphic
Created e:\biocbld\bbs-2.0-bioc\meat\R.INSTALL.5688\RSNPper\chm\RSNPper.chm, 21,652 bytes
Compression decreased file by 1,558 bytes.
adding MD5 sums
packaged installation of package 'RSNPper' as RSNPper_1.10.0.zip
* DONE (RSNPper)