Back to the "Multiple platform build/check report"
| Package 157/214 | Hostname | OS | Arch | BUILD | CHECK | BUILD BIN | 
| PROcess1.12.0Xiaochun LiLast Changed Date: 2007-04-24 11:21:48 -0700 Last Changed Rev: 24214 | lamb1 | Linux (SUSE 10.1) | x86_64 | OK | [ OK ] | |
| wellington | Linux (SUSE 9.2) | i686 | OK | OK | ||
| churchill | Solaris 2.9 | sparc | OK | OK | ||
| lemming | Windows Server 2003 (32-bit) | x64 | OK | OK | OK | |
| liverpool | Windows Server 2003 R2 (32-bit) | x64 | OK | OK | OK | |
| derby | Mac OS X (10.4.9) | i686 | OK | OK | 
| Package: PROcess | 
| Version: 1.12.0 | 
| Command: /home/biocbuild/bbs-2.0-bioc/R/bin/R CMD check PROcess_1.12.0.tar.gz | 
| RetCode: 0 | 
| Time: 80.4 seconds | 
| Status: OK | 
| CheckDir: PROcess.Rcheck | 
| Warnings: 0 | 
* checking for working latex ... OK * using log directory '/home/biocbuild/bbs-2.0-bioc/meat/PROcess.Rcheck' * using R version 2.5.0 (2007-04-23) * checking for file 'PROcess/DESCRIPTION' ... OK * this is package 'PROcess' version '1.12.0' * checking package dependencies ... OK * checking if this is a source package ... OK * checking whether package 'PROcess' can be installed ... OK * checking package directory ... OK * checking for portable file names ... OK * checking for sufficient/correct file permissions ... OK * checking DESCRIPTION meta-information ... OK * checking top-level files ... OK * checking index information ... OK * checking package subdirectories ... OK * checking R files for non-ASCII characters ... OK * checking R files for syntax errors ... OK * checking whether the package can be loaded ... OK * checking whether the package can be loaded with stated dependencies ... OK * checking whether the name space can be loaded with stated dependencies ... OK * checking for unstated dependencies in R code ... OK * checking S3 generic/method consistency ... OK * checking replacement functions ... OK * checking foreign function calls ... OK * checking R code for possible problems ... OK * checking Rd files ... OK * checking Rd cross-references ... OK * checking for missing documentation entries ... OK * checking for code/documentation mismatches ... OK * checking Rd \usage sections ... OK * creating PROcess-Ex.R ... OK * checking examples ... OK * checking package vignettes in 'inst/doc' ... OK * creating PROcess-manual.tex ... OK * checking PROcess-manual.tex ... OK
PROcess.Rcheck/00install.out:
* Installing *source* package 'PROcess' ...
** R
** inst
** save image
Loading required package: Icens
Loading required package: survival
Loading required package: splines
** help
 >>> Building/Updating help pages for package 'PROcess'
     Formats: text html latex example 
  align                             text    html    latex
  aveSpec                           text    html    latex   example
  avesd                             text    html    latex
  binning                           text    html    latex
  bslnoff                           text    html    latex   example
  gelmap                            text    html    latex
  getMzs                            text    html    latex
  getPeaks                          text    html    latex   example
  getPeaks2                         text    html    latex
  intg                              text    html    latex   example
  is.multiple                       text    html    latex   example
  isPeak                            text    html    latex   example
  lnn                               text    html    latex
  peaks                             text    html    latex   example
  pk2bmkr                           text    html    latex   example
  quality                           text    html    latex   example
  read.files                        text    html    latex
  renorm                            text    html    latex   example
  rmBaseline                        text    html    latex   example
  specZoom                          text    html    latex   example
** building package indices ...
* DONE (PROcess)