Back to the "Multiple platform build/check report"
| Package 135/214 | Hostname | OS | Arch | BUILD | CHECK | BUILD BIN | 
| OCplus1.10.0Alexander PlonerLast Changed Date: 2007-04-24 11:21:48 -0700 Last Changed Rev: 24214 | lamb1 | Linux (SUSE 10.1) | x86_64 | OK | OK | |
| wellington | Linux (SUSE 9.2) | i686 | OK | OK | ||
| churchill | Solaris 2.9 | sparc | OK | OK | ||
| lemming | Windows Server 2003 (32-bit) | x64 | [ OK ] | OK | OK | |
| liverpool | Windows Server 2003 R2 (32-bit) | x64 | OK | OK | OK | |
| derby | Mac OS X (10.4.9) | i686 | OK | OK | 
| Package: OCplus | 
| Version: 1.10.0 | 
| Command: D:\biocbld\bbs-2.0-bioc\R\bin\R.exe CMD build OCplus | 
| RetCode: 0 | 
| Time: 59.6 seconds | 
| Status: OK | 
| PackageFile: OCplus_1.10.0.tar.gz | 
* checking for file 'OCplus/DESCRIPTION' ... OK
* preparing 'OCplus':
* checking DESCRIPTION meta-information ... OK
* installing the package to re-build vignettes
installing R.css in D:/biocbld/bbs-2.0-bioc/tmpdir/Rinst368050955
---------- Making package OCplus ------------
  adding build stamp to DESCRIPTION
  installing R files
  installing inst files
  installing man source files
  installing indices
  installing help
 >>> Building/Updating help pages for package 'OCplus'
     Formats: text html latex example chm 
  DrawContourlines                  text    html    latex           chm
  EOC                               text    html    latex   example chm
  FDR                               text    html    latex   example chm
  MAsim.smyth                       text    html    latex   example chm
  OCshow                            text    html    latex   example chm
  TOC                               text    html    latex   example chm
  Undocumented                      text    html    latex           chm
  average.fdr                       text    html    latex   example chm
  fdr1d                             text    html    latex   example chm
  fdr2d                             text    html    latex   example chm
  plot.FDR.result                   text    html    latex   example chm
  plot.fdr1d.result                 text    html    latex   example chm
  plot.fdr2d.result                 text    html    latex   example chm
  samplesize                        text    html    latex   example chm
  smooth1d                          text    html    latex   example chm
  summary.fdr.result                text    html    latex   example chm
  tMixture                          text    html    latex   example chm
  tstatistics                       text    html    latex   example chm
Microsoft HTML Help Compiler 4.74.8702
Compiling d:\biocbld\bbs-2.0-bioc\meat\OCplus\chm\OCplus.chm
Compile time: 0 minutes, 0 seconds
19	Topics
85	Local links
0	Internet links
1	Graphic
Created d:\biocbld\bbs-2.0-bioc\meat\OCplus\chm\OCplus.chm, 64,977 bytes
Compression decreased file by 47,451 bytes.
  preparing package OCplus for lazy loading
Loading required package: akima
Loading required package: multtest
Loading required package: Biobase
Loading required package: tools
Welcome to Bioconductor
  Vignettes contain introductory material. To view, type
  'openVignette()'. To cite Bioconductor, see
  'citation("Biobase")' and for packages 'citation(pkgname)'.
Loading required package: survival
Loading required package: splines
  adding MD5 sums
* DONE (OCplus)
* creating vignettes ... OK
* removing junk files
* checking for LF line-endings in source files
* checking for empty or unneeded directories
* building 'OCplus_1.10.0.tar.gz'