Back to the "Multiple platform build/check report"
| Package 129/214 | Hostname | OS | Arch | BUILD | CHECK | BUILD BIN | 
| MiPP1.8.0Sukwoo KimLast Changed Date: 2007-04-24 11:21:48 -0700 Last Changed Rev: 24214 | lamb1 | Linux (SUSE 10.1) | x86_64 | OK | OK | |
| wellington | Linux (SUSE 9.2) | i686 | OK | OK | ||
| churchill | Solaris 2.9 | sparc | OK | OK | ||
| lemming | Windows Server 2003 (32-bit) | x64 | OK | OK | OK | |
| liverpool | Windows Server 2003 R2 (32-bit) | x64 | [ OK ] | OK | OK | |
| derby | Mac OS X (10.4.9) | i686 | OK | OK | 
| Package: MiPP | 
| Version: 1.8.0 | 
| Command: E:\biocbld\bbs-2.0-bioc\R\bin\R.exe CMD build MiPP | 
| RetCode: 0 | 
| Time: 23.4 seconds | 
| Status: OK | 
| PackageFile: MiPP_1.8.0.tar.gz | 
* checking for file 'MiPP/DESCRIPTION' ... OK
* preparing 'MiPP':
* checking DESCRIPTION meta-information ... OK
* checking whether 'INDEX' is up-to-date ... NO
* use '--force' to overwrite the existing 'INDEX'
* installing the package to re-build vignettes
installing R.css in E:/biocbld/bbs-2.0-bioc/tmpdir/Rinst211600109
---------- Making package MiPP ------------
  adding build stamp to DESCRIPTION
  installing R files
  installing inst files
  installing data files
  installing man source files
  installing indices
  not zipping data
  installing help
 >>> Building/Updating help pages for package 'MiPP'
     Formats: text html latex example chm 
  colon                             text    html    latex           chm
  cv.mipp.rule                      text    html    latex           chm
  get.mipp                          text    html    latex           chm
  get.mipp.lda                      text    html    latex           chm
  get.mipp.logistic                 text    html    latex           chm
  get.mipp.qda                      text    html    latex           chm
  get.mipp.svm.linear               text    html    latex           chm
  get.mipp.svm.rbf                  text    html    latex           chm
  leuk1                             text    html    latex           chm
  leuk2                             text    html    latex           chm
  leukemia                          text    html    latex           chm
  linearkernel.decision.function    text    html    latex           chm
  mipp                              text    html    latex   example chm
  mipp.preproc                      text    html    latex   example chm
  mipp.rule                         text    html    latex           chm
  mipp.seq                          text    html    latex   example chm
  pre.select                        text    html    latex           chm
  quant.normal                      text    html    latex           chm
  quant.normal2                     text    html    latex           chm
  rbfkernel.decision.function       text    html    latex           chm
Microsoft HTML Help Compiler 4.74.8702
Compiling e:\biocbld\bbs-2.0-bioc\meat\MiPP\chm\MiPP.chm
Compile time: 0 minutes, 0 seconds
21	Topics
41	Local links
0	Internet links
1	Graphic
Created e:\biocbld\bbs-2.0-bioc\meat\MiPP\chm\MiPP.chm, 25,285 bytes
Compression decreased file by 14,297 bytes.
  preparing package MiPP for lazy loading
Loading required package: Biobase
Loading required package: tools
Welcome to Bioconductor
  Vignettes contain introductory material. To view, type
  'openVignette()'. To cite Bioconductor, see
  'citation("Biobase")' and for packages 'citation(pkgname)'.
Loading required package: e1071
Loading required package: class
Loading required package: MASS
  adding MD5 sums
* DONE (MiPP)
* creating vignettes ... OK
* removing junk files
* checking for LF line-endings in source files
* checking for empty or unneeded directories
* building 'MiPP_1.8.0.tar.gz'