Back to the "Multiple platform build/check report"
| Package 126/214 | Hostname | OS | Arch | BUILD | CHECK | BUILD BIN |
MergeMaid2.8.0Xiaogang ZhongLast Changed Date: 2007-04-24 11:21:48 -0700 Last Changed Rev: 24214 | lamb1 | Linux (SUSE 10.1) | x86_64 | OK | OK | |
| wellington | Linux (SUSE 9.2) | i686 | OK | OK | ||
| churchill | Solaris 2.9 | sparc | OK | OK | ||
| lemming | Windows Server 2003 (32-bit) | x64 | [ OK ] | OK | OK | |
| liverpool | Windows Server 2003 R2 (32-bit) | x64 | OK | OK | OK | |
| derby | Mac OS X (10.4.9) | i686 | OK | OK |
| Package: MergeMaid |
| Version: 2.8.0 |
| Command: D:\biocbld\bbs-2.0-bioc\R\bin\R.exe CMD build MergeMaid |
| RetCode: 0 |
| Time: 19.4 seconds |
| Status: OK |
| PackageFile: MergeMaid_2.8.0.tar.gz |
* checking for file 'MergeMaid/DESCRIPTION' ... OK
* preparing 'MergeMaid':
* checking DESCRIPTION meta-information ... OK
* checking whether 'INDEX' is up-to-date ... NO
* use '--force' to overwrite the existing 'INDEX'
* installing the package to re-build vignettes
installing R.css in D:/biocbld/bbs-2.0-bioc/tmpdir/Rinst890413473
---------- Making package MergeMaid ------------
adding build stamp to DESCRIPTION
installing NAMESPACE file and metadata
installing R files
installing inst files
installing data files
installing man source files
installing indices
not zipping data
installing help
>>> Building/Updating help pages for package 'MergeMaid'
Formats: text html latex example chm
class.mergeCoeff text html latex example chm
class.mergeCor text html latex example chm
class.mergeExpressionSet text html latex example chm
intCor text html latex example chm
intcorDens text html latex example chm
intersection text html latex example chm
mergeData text html latex chm
mergeExprs text html latex example chm
modelOutcome text html latex example chm
Microsoft HTML Help Compiler 4.74.8702
Compiling d:\biocbld\bbs-2.0-bioc\meat\MergeMaid\chm\MergeMaid.chm
Compile time: 0 minutes, 0 seconds
10 Topics
93 Local links
0 Internet links
1 Graphic
Created d:\biocbld\bbs-2.0-bioc\meat\MergeMaid\chm\MergeMaid.chm, 29,524 bytes
Compression decreased file by 27,452 bytes.
preparing package MergeMaid for lazy loading
Loading required package: survival
Loading required package: splines
Loading required package: Biobase
Loading required package: tools
Welcome to Bioconductor
Vignettes contain introductory material. To view, type
'openVignette()'. To cite Bioconductor, see
'citation("Biobase")' and for packages 'citation(pkgname)'.
Loading required package: MASS
Creating a new generic function for "plot" in "MergeMaid"
Creating a new generic function for "hist" in "MergeMaid"
Creating a new generic function for "summary" in "MergeMaid"
adding MD5 sums
* DONE (MergeMaid)
* creating vignettes ... OK
* removing junk files
* checking for LF line-endings in source files
* checking for empty or unneeded directories
* building 'MergeMaid_2.8.0.tar.gz'