Back to the "Multiple platform build/check report"
| Package 132/214 | Hostname | OS | Arch | BUILD | CHECK | BUILD BIN |
MVCClass1.10.0Elizabeth WhalenLast Changed Date: 2007-04-24 11:21:48 -0700 Last Changed Rev: 24214 | lamb1 | Linux (SUSE 10.1) | x86_64 | OK | OK | |
| wellington | Linux (SUSE 9.2) | i686 | OK | OK | ||
| churchill | Solaris 2.9 | sparc | OK | [ OK ] | ||
| lemming | Windows Server 2003 (32-bit) | x64 | OK | OK | OK | |
| liverpool | Windows Server 2003 R2 (32-bit) | x64 | OK | OK | OK | |
| derby | Mac OS X (10.4.9) | i686 | OK | OK |
| Package: MVCClass |
| Version: 1.10.0 |
| Command: /loc/biocbuild/bbs-2.0-bioc/R/bin/R CMD check MVCClass_1.10.0.tar.gz |
| RetCode: 0 |
| Time: 136.0 seconds |
| Status: OK |
| CheckDir: MVCClass.Rcheck |
| Warnings: 0 |
* checking for working latex ... OK * using log directory '/loc/biocbuild/bbs-2.0-bioc/meat/MVCClass.Rcheck' * using R version 2.5.0 (2007-04-23) * checking for file 'MVCClass/DESCRIPTION' ... OK * this is package 'MVCClass' version '1.10.0' * checking package dependencies ... OK * checking if this is a source package ... OK * checking whether package 'MVCClass' can be installed ... OK * checking package directory ... OK * checking for portable file names ... OK * checking for sufficient/correct file permissions ... OK * checking DESCRIPTION meta-information ... OK * checking top-level files ... OK * checking index information ... OK * checking package subdirectories ... OK * checking R files for non-ASCII characters ... OK * checking R files for syntax errors ... OK * checking whether the package can be loaded ... OK * checking whether the package can be loaded with stated dependencies ... OK * checking whether the name space can be loaded with stated dependencies ... OK * checking for unstated dependencies in R code ... OK * checking S3 generic/method consistency ... OK * checking replacement functions ... OK * checking foreign function calls ... OK * checking R code for possible problems ... OK * checking Rd files ... OK * checking Rd cross-references ... OK * checking for missing documentation entries ... OK * checking for code/documentation mismatches ... OK * checking Rd \usage sections ... OK * creating MVCClass-Ex.R ... OK * checking examples ... OK * checking package vignettes in 'inst/doc' ... OK * creating MVCClass-manual.tex ... OK * checking MVCClass-manual.tex ... OK
MVCClass.Rcheck/00install.out:
* Installing *source* package 'MVCClass' ...
** R
** inst
** help
>>> Building/Updating help pages for package 'MVCClass'
Formats: text html latex example
MVC-class text html latex example
dfModel-class text html latex example
gAddChildMessage-class text html latex example
gAddDataMessage-class text html latex example
gAddMessage-class text html latex example
gAddViewMessage-class text html latex example
gAskAncestorMessage-class text html latex example
gEventFun-class text html latex example
gMessage-class text html latex example
gModel-class text html latex example
gModifyMessage-class text html latex example
gSendChildMessage-class text html latex example
gSendParentMessage-class text html latex example
gUpdateDataMessage-class text html latex example
gUpdateMessage-class text html latex example
gUpdateViewMessage-class text html latex example
genView-class text html latex example
linkedModelMVC-class text html latex example
plotView-class text html latex example
qqPlotView-class text html latex example
sPlotView-class text html latex example
singleModelMVC-class text html latex example
spreadView-class text html latex example
** building package indices ...
* DONE (MVCClass)