Back to the "Multiple platform build/check report"
| Package 105/214 | Hostname | OS | Arch | BUILD | CHECK | BUILD BIN |
LBE1.4.0Cyril DalmassoLast Changed Date: 2007-04-24 11:21:48 -0700 Last Changed Rev: 24214 | lamb1 | Linux (SUSE 10.1) | x86_64 | OK | OK | |
| wellington | Linux (SUSE 9.2) | i686 | OK | OK | ||
| churchill | Solaris 2.9 | sparc | OK | OK | ||
| lemming | Windows Server 2003 (32-bit) | x64 | OK | OK | OK | |
| liverpool | Windows Server 2003 R2 (32-bit) | x64 | OK | OK | OK | |
| derby | Mac OS X (10.4.9) | i686 | [ OK ] | OK |
| Package: LBE |
| Version: 1.4.0 |
| Command: /Library/Frameworks/R.framework/Resources/bin/R CMD build LBE |
| RetCode: 0 |
| Time: 14.5 seconds |
| Status: OK |
| PackageFile: LBE_1.4.0.tar.gz |
* checking for file 'LBE/DESCRIPTION' ... OK
* preparing 'LBE':
* checking DESCRIPTION meta-information ... OK
* installing the package to re-build vignettes
* Installing *source* package 'LBE' ...
** R
** data
** inst
** help
>>> Building/Updating help pages for package 'LBE'
Formats: text html latex example
LBE-package text html latex
LBE text html latex example
LBEa text html latex example
LBEplot text html latex example
LBEsummary text html latex example
LBEwrite text html latex example
golub.pval text html latex
hedenfalk.pval text html latex
** building package indices ...
* DONE (LBE)
* creating vignettes ... OK
* removing junk files
* checking for LF line-endings in source files
* checking for empty or unneeded directories
* building 'LBE_1.4.0.tar.gz'