Back to the "Multiple platform build/check report"
| Package 92/214 | Hostname | OS | Arch | BUILD | CHECK | BUILD BIN | 
Harshlight1.4.0Maurizio PellegrinoLast Changed Date: 2007-04-24 11:21:48 -0700 Last Changed Rev: 24214  | lamb1 | Linux (SUSE 10.1) | x86_64 | OK | WARNINGS | |
| wellington | Linux (SUSE 9.2) | i686 | OK | WARNINGS | ||
| churchill | Solaris 2.9 | sparc | OK | WARNINGS | ||
| lemming | Windows Server 2003 (32-bit) | x64 | OK | WARNINGS | [ OK ] | |
| liverpool | Windows Server 2003 R2 (32-bit) | x64 | OK | WARNINGS | OK | |
| derby | Mac OS X (10.4.9) | i686 | OK | WARNINGS | 
| Package: Harshlight | 
| Version: 1.4.0 | 
| Command: D:\biocbld\bbs-2.0-bioc\R\bin\R.exe CMD INSTALL --build --library=Harshlight.BUILDBINinstdir Harshlight_1.4.0.tar.gz | 
| RetCode: 0 | 
| Time: 12.0 seconds | 
| Status: OK | 
| PackageFile: Harshlight_1.4.0.zip | 
installing R.css in D:/biocbld/bbs-2.0-bioc/meat/Harshlight.BUILDBINinstdir
Using auto-selected zip options 'Harshlight-ZIPDATA=zip'
---------- Making package Harshlight ------------
  adding build stamp to DESCRIPTION
  making DLL ...
making Harshlight.d from Harshlight.c
gcc   -ID:/biocbld/bbs-2.0-bioc/R/include  -Wall -O3 -std=gnu99   -c Harshlight.c -o Harshlight.o
windres -I D:/biocbld/bbs-2.0-bioc/R/include  -i Harshlight_res.rc -o Harshlight_res.o
gcc  -shared -s  -o Harshlight.dll Harshlight.def Harshlight.o Harshlight_res.o  -LD:/biocbld/bbs-2.0-bioc/R/bin    -lR
  ... DLL made
  installing DLL
  installing R files
  installing inst files
  installing data files
  installing man source files
  installing indices
  zipping data
  installing help
 >>> Building/Updating help pages for package 'Harshlight'
     Formats: text html latex example chm 
  HarshComp                         text    html    latex           chm
  HarshExt                          text    html    latex           chm
  Harshlight                        text    html    latex   example chm
  sim                               text    html    latex           chm
Microsoft HTML Help Compiler 4.74.8702
Compiling d:\biocbld\bbs-2.0-bioc\meat\R.INSTALL.7816\Harshlight\chm\Harshlight.chm
Compile time: 0 minutes, 0 seconds
5	Topics
11	Local links
3	Internet links
1	Graphic
Created d:\biocbld\bbs-2.0-bioc\meat\R.INSTALL.7816\Harshlight\chm\Harshlight.chm, 24,703 bytes
Compression decreased file by 1,836 bytes.
  preparing package Harshlight for lazy loading
Loading required package: affy
Loading required package: Biobase
Loading required package: tools
Welcome to Bioconductor
  Vignettes contain introductory material. To view, type
  'openVignette()'. To cite Bioconductor, see
  'citation("Biobase")' and for packages 'citation(pkgname)'.
Loading required package: affyio
  adding MD5 sums
packaged installation of package 'Harshlight' as Harshlight_1.4.0.zip
* DONE (Harshlight)