Back to the "Multiple platform build/check report"
| Package 79/214 | Hostname | OS | Arch | BUILD | CHECK | BUILD BIN |
GeneticsPed1.0.0Gregor GorjancLast Changed Date: 2007-04-24 11:21:48 -0700 Last Changed Rev: 24214 | lamb1 | Linux (SUSE 10.1) | x86_64 | OK | OK | |
| wellington | Linux (SUSE 9.2) | i686 | OK | OK | ||
| churchill | Solaris 2.9 | sparc | OK | OK | ||
| lemming | Windows Server 2003 (32-bit) | x64 | OK | OK | OK | |
| liverpool | Windows Server 2003 R2 (32-bit) | x64 | OK | OK | OK | |
| derby | Mac OS X (10.4.9) | i686 | [ OK ] | OK |
| Package: GeneticsPed |
| Version: 1.0.0 |
| Command: /Library/Frameworks/R.framework/Resources/bin/R CMD build GeneticsPed |
| RetCode: 0 |
| Time: 50.5 seconds |
| Status: OK |
| PackageFile: GeneticsPed_1.0.0.tar.gz |
* checking for file 'GeneticsPed/DESCRIPTION' ... OK
* preparing 'GeneticsPed':
* checking DESCRIPTION meta-information ... OK
* cleaning src
* installing the package to re-build vignettes
* Installing *source* package 'GeneticsPed' ...
** libs
** arch - i386
g++-4.0 -arch i386 -isysroot /Developer/SDKs/MacOSX10.4u.sdk -no-cpp-precomp -I/Library/Frameworks/R.framework/Resources/include -I/Library/Frameworks/R.framework/Resources/include/i386 -msse3 -fPIC -g -O2 -march=nocona -c ainverse.cc -o ainverse.o
g++-4.0 -arch i386 -isysroot /Developer/SDKs/MacOSX10.4u.sdk -no-cpp-precomp -I/Library/Frameworks/R.framework/Resources/include -I/Library/Frameworks/R.framework/Resources/include/i386 -msse3 -fPIC -g -O2 -march=nocona -c eibd.cc -o eibd.o
gfortran-4.0 -arch i386 -isysroot /Developer/SDKs/MacOSX10.4u.sdk -fPIC -g -O2 -march=nocona -c ggmatmult.f -o ggmatmult.o
gfortran-4.0 -arch i386 -isysroot /Developer/SDKs/MacOSX10.4u.sdk -fPIC -g -O2 -march=nocona -c gpi.f -o gpi.o
g++-4.0 -arch i386 -isysroot /Developer/SDKs/MacOSX10.4u.sdk -no-cpp-precomp -I/Library/Frameworks/R.framework/Resources/include -I/Library/Frameworks/R.framework/Resources/include/i386 -msse3 -fPIC -g -O2 -march=nocona -c inbreed.cc -o inbreed.o
g++-4.0 -arch i386 -isysroot /Developer/SDKs/MacOSX10.4u.sdk -no-cpp-precomp -I/Library/Frameworks/R.framework/Resources/include -I/Library/Frameworks/R.framework/Resources/include/i386 -msse3 -fPIC -g -O2 -march=nocona -c inverseAdditive.cc -o inverseAdditive.o
g++-4.0 -arch i386 -isysroot /Developer/SDKs/MacOSX10.4u.sdk -no-cpp-precomp -I/Library/Frameworks/R.framework/Resources/include -I/Library/Frameworks/R.framework/Resources/include/i386 -msse3 -fPIC -g -O2 -march=nocona -c meuwissen.cc -o meuwissen.o
g++-4.0 -arch i386 -isysroot /Developer/SDKs/MacOSX10.4u.sdk -no-cpp-precomp -I/Library/Frameworks/R.framework/Resources/include -I/Library/Frameworks/R.framework/Resources/include/i386 -msse3 -fPIC -g -O2 -march=nocona -c pedSort.cc -o pedSort.o
g++-4.0 -arch i386 -isysroot /Developer/SDKs/MacOSX10.4u.sdk -no-cpp-precomp -I/Library/Frameworks/R.framework/Resources/include -I/Library/Frameworks/R.framework/Resources/include/i386 -msse3 -fPIC -g -O2 -march=nocona -c pedtemplate.cc -o pedtemplate.o
g++-4.0 -arch i386 -isysroot /Developer/SDKs/MacOSX10.4u.sdk -no-cpp-precomp -I/Library/Frameworks/R.framework/Resources/include -I/Library/Frameworks/R.framework/Resources/include/i386 -msse3 -fPIC -g -O2 -march=nocona -c register.cc -o register.o
gcc-4.0 -arch i386 -isysroot /Developer/SDKs/MacOSX10.4u.sdk -no-cpp-precomp -I/Library/Frameworks/R.framework/Resources/include -I/Library/Frameworks/R.framework/Resources/include/i386 -msse3 -D__NO_MATH_INLINES -fPIC -g -O2 -std=gnu99 -march=nocona -c sargolzaei.c -o sargolzaei.o
g++-4.0 -arch i386 -isysroot /Developer/SDKs/MacOSX10.4u.sdk -no-cpp-precomp -I/Library/Frameworks/R.framework/Resources/include -I/Library/Frameworks/R.framework/Resources/include/i386 -msse3 -fPIC -g -O2 -march=nocona -c sortped.cc -o sortped.o
g++-4.0 -arch i386 -isysroot /Developer/SDKs/MacOSX10.4u.sdk -dynamiclib -Wl,-macosx_version_min -Wl,10.3 -undefined dynamic_lookup -single_module -multiply_defined suppress -L/usr/local/lib -o GeneticsPed.so ainverse.o eibd.o ggmatmult.o gpi.o inbreed.o inverseAdditive.o meuwissen.o pedSort.o pedtemplate.o register.o sargolzaei.o sortped.o -L/usr/local/lib/gcc/i686-apple-darwin8/4.2.0 -lgfortran -lgcc_s.10.4 -F/Library/Frameworks/R.framework/.. -framework R
** arch - ppc
g++-4.0 -arch ppc -isysroot /Developer/SDKs/MacOSX10.4u.sdk -no-cpp-precomp -I/Library/Frameworks/R.framework/Resources/include -I/Library/Frameworks/R.framework/Resources/include/ppc -I/usr/local/include -fPIC -g -O2 -c ainverse.cc -o ainverse.o
g++-4.0 -arch ppc -isysroot /Developer/SDKs/MacOSX10.4u.sdk -no-cpp-precomp -I/Library/Frameworks/R.framework/Resources/include -I/Library/Frameworks/R.framework/Resources/include/ppc -I/usr/local/include -fPIC -g -O2 -c eibd.cc -o eibd.o
gfortran-4.0 -arch ppc -isysroot /Developer/SDKs/MacOSX10.4u.sdk -fPIC -g -O2 -c ggmatmult.f -o ggmatmult.o
gfortran-4.0 -arch ppc -isysroot /Developer/SDKs/MacOSX10.4u.sdk -fPIC -g -O2 -c gpi.f -o gpi.o
g++-4.0 -arch ppc -isysroot /Developer/SDKs/MacOSX10.4u.sdk -no-cpp-precomp -I/Library/Frameworks/R.framework/Resources/include -I/Library/Frameworks/R.framework/Resources/include/ppc -I/usr/local/include -fPIC -g -O2 -c inbreed.cc -o inbreed.o
g++-4.0 -arch ppc -isysroot /Developer/SDKs/MacOSX10.4u.sdk -no-cpp-precomp -I/Library/Frameworks/R.framework/Resources/include -I/Library/Frameworks/R.framework/Resources/include/ppc -I/usr/local/include -fPIC -g -O2 -c inverseAdditive.cc -o inverseAdditive.o
g++-4.0 -arch ppc -isysroot /Developer/SDKs/MacOSX10.4u.sdk -no-cpp-precomp -I/Library/Frameworks/R.framework/Resources/include -I/Library/Frameworks/R.framework/Resources/include/ppc -I/usr/local/include -fPIC -g -O2 -c meuwissen.cc -o meuwissen.o
g++-4.0 -arch ppc -isysroot /Developer/SDKs/MacOSX10.4u.sdk -no-cpp-precomp -I/Library/Frameworks/R.framework/Resources/include -I/Library/Frameworks/R.framework/Resources/include/ppc -I/usr/local/include -fPIC -g -O2 -c pedSort.cc -o pedSort.o
g++-4.0 -arch ppc -isysroot /Developer/SDKs/MacOSX10.4u.sdk -no-cpp-precomp -I/Library/Frameworks/R.framework/Resources/include -I/Library/Frameworks/R.framework/Resources/include/ppc -I/usr/local/include -fPIC -g -O2 -c pedtemplate.cc -o pedtemplate.o
g++-4.0 -arch ppc -isysroot /Developer/SDKs/MacOSX10.4u.sdk -no-cpp-precomp -I/Library/Frameworks/R.framework/Resources/include -I/Library/Frameworks/R.framework/Resources/include/ppc -I/usr/local/include -fPIC -g -O2 -c register.cc -o register.o
gcc-4.0 -arch ppc -isysroot /Developer/SDKs/MacOSX10.4u.sdk -std=gnu99 -no-cpp-precomp -I/Library/Frameworks/R.framework/Resources/include -I/Library/Frameworks/R.framework/Resources/include/ppc -I/usr/local/include -fPIC -g -O2 -c sargolzaei.c -o sargolzaei.o
g++-4.0 -arch ppc -isysroot /Developer/SDKs/MacOSX10.4u.sdk -no-cpp-precomp -I/Library/Frameworks/R.framework/Resources/include -I/Library/Frameworks/R.framework/Resources/include/ppc -I/usr/local/include -fPIC -g -O2 -c sortped.cc -o sortped.o
g++-4.0 -arch ppc -isysroot /Developer/SDKs/MacOSX10.4u.sdk -dynamiclib -Wl,-macosx_version_min -Wl,10.3 -undefined dynamic_lookup -single_module -multiply_defined suppress -L/usr/local/lib -o GeneticsPed.so ainverse.o eibd.o ggmatmult.o gpi.o inbreed.o inverseAdditive.o meuwissen.o pedSort.o pedtemplate.o register.o sargolzaei.o sortped.o -L/usr/local/lib/gcc/powerpc-apple-darwin8/4.2.0 -lgfortran -lgcc_s.10.4 -lSystemStubs -F/Library/Frameworks/R.framework/.. -framework R
** R
** data
** inst
** preparing package for lazy loading
Loading required package: gdata
Loading required package: MASS
** help
>>> Building/Updating help pages for package 'GeneticsPed'
Formats: text html latex example
Mrode text html latex example
TDT text html latex example
check text html latex example
codeUnit text html latex example
extend text html latex example
family text html latex example
founder text html latex example
geneContribution text html latex example
generatePedigree text html latex example
generation text html latex example
gpi text html latex example
inbreeding text html latex example
model.matrix text html latex example
nIndividual text html latex example
pedigree text html latex example
relationshipAdditive text html latex example
removeIndividual text html latex example
sort.pedigree text html latex example
summary.pedigree text html latex example
undocumented text html latex
** building package indices ...
* DONE (GeneticsPed)
* creating vignettes ... OK
* cleaning src
* removing junk files
* checking for LF line-endings in source files
* checking for empty or unneeded directories
* building 'GeneticsPed_1.0.0.tar.gz'