Back to the "Multiple platform build/check report"
| Package 72/214 | Hostname | OS | Arch | BUILD | CHECK | BUILD BIN | 
| GeneMeta1.8.0Biocore TeamLast Changed Date: 2007-04-24 11:21:48 -0700 Last Changed Rev: 24214 | lamb1 | Linux (SUSE 10.1) | x86_64 | [ OK ] | OK | |
| wellington | Linux (SUSE 9.2) | i686 | OK | OK | ||
| churchill | Solaris 2.9 | sparc | OK | OK | ||
| lemming | Windows Server 2003 (32-bit) | x64 | OK | OK | OK | |
| liverpool | Windows Server 2003 R2 (32-bit) | x64 | OK | OK | OK | |
| derby | Mac OS X (10.4.9) | i686 | OK | OK | 
| Package: GeneMeta | 
| Version: 1.8.0 | 
| Command: /home/biocbuild/bbs-2.0-bioc/R/bin/R CMD build GeneMeta | 
| RetCode: 0 | 
| Time: 41.5 seconds | 
| Status: OK | 
| PackageFile: GeneMeta_1.8.0.tar.gz | 
* checking for file 'GeneMeta/DESCRIPTION' ... OK
* preparing 'GeneMeta':
* checking DESCRIPTION meta-information ... OK
* installing the package to re-build vignettes
* Installing *source* package 'GeneMeta' ...
** R
** data
** inst
** save image
Loading required package: Biobase
Loading required package: tools
Welcome to Bioconductor
  Vignettes contain introductory material. To view, type
  'openVignette()'. To cite Bioconductor, see
  'citation("Biobase")' and for packages 'citation(pkgname)'.
Loading required package: genefilter
Loading required package: survival
Loading required package: splines
** help
 >>> Building/Updating help pages for package 'GeneMeta'
     Formats: text html latex example 
  CountPlot                         text    html    latex   example
  Nevins                            text    html    latex   example
  dstar                             text    html    latex   example
  f.Q                               text    html    latex   example
  tau                               text    html    latex   example
  zscore                            text    html    latex   example
** building package indices ...
* DONE (GeneMeta)
* creating vignettes ... OK
* removing junk files
* checking for LF line-endings in source files
* checking for empty or unneeded directories
* building 'GeneMeta_1.8.0.tar.gz'