Back to the "Multiple platform build/check report"
| Package 82/214 | Hostname | OS | Arch | BUILD | CHECK | BUILD BIN |
GEOquery2.0.2Sean DavisLast Changed Date: 2007-04-25 04:38:52 -0700 Last Changed Rev: 24254 | lamb1 | Linux (SUSE 10.1) | x86_64 | OK | OK | |
| wellington | Linux (SUSE 9.2) | i686 | OK | OK | ||
| churchill | Solaris 2.9 | sparc | [ OK ] | OK | ||
| lemming | Windows Server 2003 (32-bit) | x64 | OK | OK | OK | |
| liverpool | Windows Server 2003 R2 (32-bit) | x64 | OK | OK | OK | |
| derby | Mac OS X (10.4.9) | i686 | OK | OK |
| Package: GEOquery |
| Version: 2.0.2 |
| Command: /loc/biocbuild/bbs-2.0-bioc/R/bin/R CMD build GEOquery |
| RetCode: 0 |
| Time: 85.8 seconds |
| Status: OK |
| PackageFile: GEOquery_2.0.2.tar.gz |
* checking for file 'GEOquery/DESCRIPTION' ... OK
* preparing 'GEOquery':
* checking DESCRIPTION meta-information ... OK
* installing the package to re-build vignettes
* Installing *source* package 'GEOquery' ...
** R
** inst
** help
>>> Building/Updating help pages for package 'GEOquery'
Formats: text html latex example
GDS-class text html latex
GDS2MA text html latex example
GEOData-class text html latex
GEODataTable-class text html latex
GPL-class text html latex
GSE-class text html latex
GSM-class text html latex
dataTable text html latex
getGEO text html latex example
getGEOfile text html latex example
parseGEO text html latex
** building package indices ...
* DONE (GEOquery)
* creating vignettes ... OK
* removing junk files
* checking for LF line-endings in source files
* checking for empty or unneeded directories
* building 'GEOquery_2.0.2.tar.gz'