Back to the "Multiple platform build/check report"
| Package 39/214 | Hostname | OS | Arch | BUILD | CHECK | BUILD BIN |
CALIB1.2.0Hui ZhaoLast Changed Date: 2007-04-24 11:21:48 -0700 Last Changed Rev: 24214 | lamb1 | Linux (SUSE 10.1) | x86_64 | OK | OK | |
| wellington | Linux (SUSE 9.2) | i686 | OK | OK | ||
| churchill | Solaris 2.9 | sparc | [ OK ] | OK | ||
| lemming | Windows Server 2003 (32-bit) | x64 | OK | OK | OK | |
| liverpool | Windows Server 2003 R2 (32-bit) | x64 | OK | OK | OK | |
| derby | Mac OS X (10.4.9) | i686 | OK | OK |
| Package: CALIB |
| Version: 1.2.0 |
| Command: /loc/biocbuild/bbs-2.0-bioc/R/bin/R CMD build CALIB |
| RetCode: 0 |
| Time: 140.5 seconds |
| Status: OK |
| PackageFile: CALIB_1.2.0.tar.gz |
* checking for file 'CALIB/DESCRIPTION' ... OK
* preparing 'CALIB':
* checking DESCRIPTION meta-information ... OK
* cleaning src
* installing the package to re-build vignettes
* Installing *source* package 'CALIB' ...
** libs
g++ -I/loc/biocbuild/bbs-2.0-bioc/R/include -I/loc/biocbuild/bbs-2.0-bioc/R/include -I/usr/local/include -fPIC -g -O2 -Wall -c Design.cpp -o Design.o
g++ -I/loc/biocbuild/bbs-2.0-bioc/R/include -I/loc/biocbuild/bbs-2.0-bioc/R/include -I/usr/local/include -fPIC -g -O2 -Wall -c Estimation.cpp -o Estimation.o
g++ -I/loc/biocbuild/bbs-2.0-bioc/R/include -I/loc/biocbuild/bbs-2.0-bioc/R/include -I/usr/local/include -fPIC -g -O2 -Wall -c NormalizedData.cpp -o NormalizedData.o
g++ -I/loc/biocbuild/bbs-2.0-bioc/R/include -I/loc/biocbuild/bbs-2.0-bioc/R/include -I/usr/local/include -fPIC -g -O2 -Wall -c ParameterofOneArray.cpp -o ParameterofOneArray.o
g++ -I/loc/biocbuild/bbs-2.0-bioc/R/include -I/loc/biocbuild/bbs-2.0-bioc/R/include -I/usr/local/include -fPIC -g -O2 -Wall -c RawDataofOneArray.cpp -o RawDataofOneArray.o
g++ -I/loc/biocbuild/bbs-2.0-bioc/R/include -I/loc/biocbuild/bbs-2.0-bioc/R/include -I/usr/local/include -fPIC -g -O2 -Wall -c SpikeofOneArray.cpp -o SpikeofOneArray.o
g++ -G -L/usr/local/lib -o CALIB.so Design.o Estimation.o NormalizedData.o ParameterofOneArray.o RawDataofOneArray.o SpikeofOneArray.o -L/loc/biocbuild/bbs-2.0-bioc/R/lib -lR
** R
** data
** inst
** preparing package for lazy loading
Loading required package: limma
** help
>>> Building/Updating help pages for package 'CALIB'
Formats: text html latex example
ParameterList-class text html latex
RG text html latex example
RGList_CALIB-class text html latex
SpikeList-class text html latex
adjustP2 text html latex example
calibReadMe text html latex example
cbind text html latex example
dim text html latex example
dimnames text html latex example
estimateParameter text html latex example
getColClasses text html latex example
merge text html latex example
normalizeData text html latex example
normdata text html latex example
parameter text html latex example
plotNormalizedData text html latex example
plotSpikeCI text html latex example
plotSpikeHI text html latex example
plotSpikeRG text html latex example
plotSpikeSpotError text html latex example
read.rg text html latex example
read.spike text html latex
spike text html latex example
subset text html latex example
** building package indices ...
* DONE (CALIB)
* creating vignettes ... OK
* cleaning src
* removing junk files
* checking for LF line-endings in source files
* checking for empty or unneeded directories
* building 'CALIB_1.2.0.tar.gz'