Back to the "Multiple platform build/check report"
| Package 36/214 | Hostname | OS | Arch | BUILD | CHECK | BUILD BIN | 
| BSgenome1.4.0H. PagesLast Changed Date: 2007-04-24 11:21:48 -0700 Last Changed Rev: 24214 | lamb1 | Linux (SUSE 10.1) | x86_64 | OK | OK | |
| wellington | Linux (SUSE 9.2) | i686 | OK | OK | ||
| churchill | Solaris 2.9 | sparc | OK | OK | ||
| lemming | Windows Server 2003 (32-bit) | x64 | [ OK ] | OK | OK | |
| liverpool | Windows Server 2003 R2 (32-bit) | x64 | OK | OK | OK | |
| derby | Mac OS X (10.4.9) | i686 | OK | OK | 
| Package: BSgenome | 
| Version: 1.4.0 | 
| Command: D:\biocbld\bbs-2.0-bioc\R\bin\R.exe CMD build BSgenome | 
| RetCode: 0 | 
| Time: 2.5 seconds | 
| Status: OK | 
| PackageFile: BSgenome_1.4.0.tar.gz | 
* checking for file 'BSgenome/DESCRIPTION' ... OK * preparing 'BSgenome': * checking DESCRIPTION meta-information ... OK * removing junk files * checking for LF line-endings in source files * checking for empty or unneeded directories * building 'BSgenome_1.4.0.tar.gz'