Back to the "Multiple platform build/check report"
| Package 103/208 | OS | Arch | BUILD | CHECK | BUILD BIN |
logicFS1.5.0Holger Schwender | Linux (SUSE 9.2) | x86_64 | OK | OK | |
| Linux (SUSE 10.1) | x86_64 | OK | OK | ||
| Linux (SUSE 9.2) | i686 | OK | [ OK ] | ||
| Solaris 2.9 | sparc | OK | OK | ||
| Windows Server 2003 | x86_64 | OK | OK | OK | |
| Windows Server 2003 | NA | OK | ERROR | OK | |
| Mac OS X (10.4.6) | i686 | OK | OK |
| Package: logicFS |
| Version: 1.5.0 |
| Command: /loc/biocbuild/2.0d/R/bin/R CMD check logicFS_1.5.0.tar.gz |
| RetCode: 0 |
| Time: 78.3 seconds |
| Status: OK |
| CheckDir: logicFS.Rcheck |
| Warnings: 0 |
* checking for working latex ... OK * using log directory '/extra/loc/biocbuild/2.0d/Rpacks/logicFS.Rcheck' * using R version 2.5.0 Under development (unstable) (2006-12-05 r40126) * checking for file 'logicFS/DESCRIPTION' ... OK * this is package 'logicFS' version '1.5.0' * checking package dependencies ... OK * checking if this is a source package ... OK * checking whether package 'logicFS' can be installed ... OK * checking package directory ... OK * checking for portable file names ... OK * checking for sufficient/correct file permissions ... OK * checking DESCRIPTION meta-information ... OK * checking top-level files ... OK * checking index information ... OK * checking package subdirectories ... OK * checking R files for syntax errors ... OK * checking R files for non-ASCII characters ... OK * checking whether the package can be loaded ... OK * checking whether the package can be loaded with stated dependencies ... OK * checking S3 generic/method consistency ... OK * checking replacement functions ... OK * checking foreign function calls ... OK * checking R code for possible problems ... OK * checking Rd files ... OK * checking Rd cross-references ... OK * checking for missing documentation entries ... OK * checking for code/documentation mismatches ... OK * checking Rd \usage sections ... OK * creating logicFS-Ex.R ... OK * checking examples ... OK * checking package vignettes in 'inst/doc' ... OK * creating logicFS-manual.tex ... OK * checking logicFS-manual.tex ... OK
logicFS.Rcheck/00install.out:
* Installing *source* package 'logicFS' ...
** R
** data
** inst
** help
>>> Building/Updating help pages for package 'logicFS'
Formats: text html latex example
data.logicfs text html latex
logic.bagging text html latex example
logic.fs text html latex example
logic.vim text html latex
logicFS-internal text html latex
make.snp.dummy text html latex
minDNF text html latex
plot.logicFS text html latex
predict.logicBagg text html latex
print.logicFS text html latex
** building package indices ...
* DONE (logicFS)