1.7.0Colin A. Smith | Linux (SUSE 9.2)  | x86_64 |  ERROR  | skipped |  | 
| Linux (SUSE 10.1)  | x86_64 |  ERROR  | skipped |  | 
| Linux (SUSE 9.2)  | i686 | [ ERROR ] | skipped |  | 
| Solaris 2.9  | sparc |  ERROR  | skipped |  | 
| Windows Server 2003  | x86_64 |  ERROR  | skipped | skipped | 
| Windows Server 2003  | NA |  ERROR  | skipped | skipped | 
| Mac OS X (10.4.6)  | i686 |  OK  |  OK  |  | 
* checking for file 'annaffy/DESCRIPTION' ... OK
* preparing 'annaffy':
* checking DESCRIPTION meta-information ... OK
* installing the package to re-build vignettes
* Installing *source* package 'annaffy' ...
** R
** data
** inst
** save image
Loading required package: Biobase
Loading required package: tools
Welcome to Bioconductor
    Vignettes contain introductory material. To view, type
    'openVignette()' or start with 'help(Biobase)'. For details
    on reading vignettes, see the openVignette help page.
Loading required package: GO
Loading required package: KEGG
Error in setIs(class2, cli, extensionObject = obji, doComplete = FALSE,  : 
	Unable to find package environment for class "AssayData" to revise subclass information
Error in setClass("aafGO", "aafList", prototype = list()) : 
	error in contained classes ("aafList") for class "aafGO"; class definition removed from "annaffy"
Error: unable to load R code in package 'annaffy'
Execution halted
ERROR: execution of package source for 'annaffy' failed
** Removing '/tmp/Rinst1578954378/annaffy'
 ERROR
Installation failed.
Removing '/tmp/Rinst1578954378'