Back to the "Multiple platform build/check report"
| Package 42/208 | OS | Arch | BUILD | CHECK | BUILD BIN | 
| CoCiteStats1.7.0R. Gentleman | Linux (SUSE 9.2) | x86_64 | OK | OK | |
| Linux (SUSE 10.1) | x86_64 | OK | OK | ||
| Linux (SUSE 9.2) | i686 | [ OK ] | OK | ||
| Solaris 2.9 | sparc | OK | OK | ||
| Windows Server 2003 | x86_64 | OK | OK | OK | |
| Windows Server 2003 | NA | OK | ERROR | OK | |
| Mac OS X (10.4.6) | i686 | OK | OK | 
| Package: CoCiteStats | 
| Version: 1.7.0 | 
| Command: /loc/biocbuild/2.0d/R/bin/R CMD build CoCiteStats | 
| RetCode: 0 | 
| Time: 0.8 seconds | 
| Status: OK | 
| PackageFile: CoCiteStats_1.7.0.tar.gz | 
* checking for file 'CoCiteStats/DESCRIPTION' ... OK * preparing 'CoCiteStats': * checking DESCRIPTION meta-information ... OK * removing junk files * checking for LF line-endings in source files * checking for empty or unneeded directories * building 'CoCiteStats_1.7.0.tar.gz'