Back to the "Multiple platform build/check report"
| Package 27/208 | OS | Arch | BUILD | CHECK | BUILD BIN |
BeadExplorer1.1.3Gareth Elvidge | Linux (SUSE 9.2) | x86_64 | OK | WARNINGS | |
| Linux (SUSE 10.1) | x86_64 | OK | WARNINGS | ||
| Linux (SUSE 9.2) | i686 | [ OK ] | WARNINGS | ||
| Solaris 2.9 | sparc | OK | WARNINGS | ||
| Windows Server 2003 | x86_64 | OK | WARNINGS | OK | |
| Windows Server 2003 | NA | OK | TIMEOUT | OK | |
| Mac OS X (10.4.6) | i686 | OK | WARNINGS |
| Package: BeadExplorer |
| Version: 1.1.3 |
| Command: /loc/biocbuild/2.0d/R/bin/R CMD build BeadExplorer |
| RetCode: 0 |
| Time: 2.3 seconds |
| Status: OK |
| PackageFile: BeadExplorer_1.1.3.tar.gz |
* checking for file 'BeadExplorer/DESCRIPTION' ... OK * preparing 'BeadExplorer': * checking DESCRIPTION meta-information ... OK * removing junk files * checking for LF line-endings in source files * checking for empty or unneeded directories * building 'BeadExplorer_1.1.3.tar.gz'