Back to the "Multiple platform build/check report"
| Package 149/208 | OS | Arch | BUILD | CHECK | BUILD BIN |
plier1.5.0Crispin Miller | Linux (SUSE 9.2) | x86_64 | OK | WARNINGS | |
| Linux (SUSE 10.1) | x86_64 | OK | WARNINGS | ||
| Linux (SUSE 9.2) | i686 | OK | WARNINGS | ||
| Solaris 2.9 | sparc | OK | WARNINGS | ||
| Windows Server 2003 | x86_64 | OK | WARNINGS | OK | |
| Windows Server 2003 | NA | [ OK ] | ERROR | OK | |
| Mac OS X (10.4.6) | i686 | OK | ERROR |
| Package: plier |
| Version: 1.5.0 |
| Command: E:\biocbld\2.0d\R\bin\R.exe CMD build plier |
| RetCode: 0 |
| Time: 1.5 seconds |
| Status: OK |
| PackageFile: plier_1.5.0.tar.gz |
* checking for file 'plier/DESCRIPTION' ... OK * preparing 'plier': * checking DESCRIPTION meta-information ... OK * cleaning src * removing junk files * checking for LF line-endings in source files * checking for empty or unneeded directories * building 'plier_1.5.0.tar.gz'