| 1.7.0Brian S. Yandell | Linux (SUSE 9.2) | x86_64 | OK | OK |  | 
| Linux (SUSE 10.1) | x86_64 | OK | OK |  | 
| Linux (SUSE 9.2) | i686 | OK | OK |  | 
| Solaris 2.9 | sparc | OK | OK |  | 
| Windows Server 2003 | x86_64 | OK | OK | OK | 
| Windows Server 2003 | NA | [ OK ] | ERROR | OK | 
| Mac OS X (10.4.6) | i686 | OK | OK |  | 
* checking for file 'pickgene/DESCRIPTION' ... OK
* preparing 'pickgene':
* checking DESCRIPTION meta-information ... OK
* checking whether 'INDEX' is up-to-date ... NO
* use '--force' to overwrite the existing 'INDEX'
* installing the package to re-build vignettes
installing R.css in E:/biocbld/2.0d/tmpdir/Rinst428804971
---------- Making package pickgene ------------
  adding build stamp to DESCRIPTION
  installing R files
  installing inst files
  installing man source files
  installing indices
  installing help
 >>> Building/Updating help pages for package 'pickgene'
     Formats: text html latex example chm 
  Simulation.pickgene               text    html    latex   example chm
  em.ggb                            text    html    latex   example chm
  model.pickgene                    text    html    latex   example chm
  oddsplot                          text    html    latex   example chm
  pickgene-internal                 text    html    latex           chm
  pickgene                          text    html    latex   example chm
  robustscale                       text    html    latex   example chm
Microsoft HTML Help Compiler 4.74.8702
Compiling e:\biocbld\2.0d\Rpacks\pickgene\chm\pickgene.chm
Compile time: 0 minutes, 0 seconds
8	Topics
16	Local links
0	Internet links
1	Graphic
Created e:\biocbld\2.0d\Rpacks\pickgene\chm\pickgene.chm, 30,545 bytes
Compression decreased file by 11,104 bytes.
  preparing package pickgene for lazy loading
Loading required package: MASS
  adding MD5 sums
* DONE (pickgene)
* creating vignettes ... OK
* removing junk files
* checking for LF line-endings in source files
* checking for empty or unneeded directories
* building 'pickgene_1.7.0.tar.gz'