Using auto-selected zip options 'daMA-ZIPDATA=zip'
---------- Making package daMA ------------
  adding build stamp to DESCRIPTION
  installing R files
  installing data files
  installing man source files
  installing indices
  zipping data
  installing help
 >>> Building/Updating help pages for package 'daMA'
     Formats: text html latex example chm 
  analyseMA                         text    html    latex   example chm
  cinfo                             text    html    latex   example chm
  cinfoB.AB                         text    html    latex   example chm
  cmat                              text    html    latex   example chm
  cmatB.AB                          text    html    latex   example chm
  core                              text    html    latex   example chm
  data.3x2                          text    html    latex   example chm
  designMA                          text    html    latex   example chm
  designs.basic                     text    html    latex           chm
  designs.composite                 text    html    latex   example chm
  id.3x2                            text    html    latex   example chm
Microsoft HTML Help Compiler 4.74.8702
Compiling e:\biocbld\2.0d\Rpacks\R.INSTALL\daMA\chm\daMA.chm
Compile time: 0 minutes, 0 seconds
12	Topics
22	Local links
6	Internet links
1	Graphic
Created e:\biocbld\2.0d\Rpacks\R.INSTALL\daMA\chm\daMA.chm, 28,593 bytes
Compression decreased file by 7,922 bytes.
  adding MD5 sums
packaged installation of package 'daMA' as daMA_1.7.0.zip
* DONE (daMA)