| 1.11.0Rafael A. Irizarry | Linux (SUSE 9.2) | x86_64 | OK | OK |  | 
| Linux (SUSE 10.1) | x86_64 | OK | OK |  | 
| Linux (SUSE 9.2) | i686 | OK | OK |  | 
| Solaris 2.9 | sparc | OK | OK |  | 
| Windows Server 2003 | x86_64 | OK | OK | OK | 
| Windows Server 2003 | NA | OK | ERROR | [ OK ] | 
| Mac OS X (10.4.6) | i686 | OK | OK |  | 
Using auto-selected zip options 'affycomp-ZIPDATA=zip affycomp-HELP=ziponly'
---------- Making package affycomp ------------
  adding build stamp to DESCRIPTION
  installing NAMESPACE file and metadata
  installing R files
  installing inst files
  installing data files
  installing man source files
  installing indices
  zipping data
  installing help
 >>> Building/Updating help pages for package 'affycomp'
     Formats: text html latex example chm 
  SD                                text    html    latex   example chm
  affycomp.compfigs.auxiliary       text    html    latex   example chm
  affycomp.figures.auxiliary        text    html    latex   example chm
  affycomp.table                    text    html    latex   example chm
  affycompPlot                      text    html    latex   example chm
  assessAll                         text    html    latex           chm
  assessDilution                    text    html    latex           chm
  assessSD                          text    html    latex           chm
  assessSpikeIn                     text    html    latex           chm
  assessSpikeIn2                    text    html    latex           chm
  dilution.phenodata                text    html    latex           chm
  exprset.log                       text    html    latex           chm
  hgu133a.spikein.phenodata         text    html    latex           chm
  lw.sd.assessment                  text    html    latex           chm
  mas5.assessment                   text    html    latex           chm
  readin                            text    html    latex           chm
  remove.hgu133a.xhyb               text    html    latex           chm
  rma.assessment                    text    html    latex           chm
  rma.sd.assessment                 text    html    latex           chm
  spikein.phenodata                 text    html    latex           chm
  xhyb                              text    html    latex           chm
  zipping help files
Microsoft HTML Help Compiler 4.74.8702
Compiling e:\biocbld\2.0d\Rpacks\R.INSTALL\affycomp\chm\affycomp.chm
Compile time: 0 minutes, 0 seconds
22	Topics
129	Local links
3	Internet links
1	Graphic
Created e:\biocbld\2.0d\Rpacks\R.INSTALL\affycomp\chm\affycomp.chm, 34,505 bytes
Compression decreased file by 47,313 bytes.
  preparing package affycomp for lazy loading
Loading required package: Biobase
Loading required package: tools
Welcome to Bioconductor
    Vignettes contain introductory material. To view, type
    'openVignette()' or start with 'help(Biobase)'. For details
    on reading vignettes, see the openVignette help page.
  adding MD5 sums
packaged installation of package 'affycomp' as affycomp_1.11.0.zip
* DONE (affycomp)