Back to the "Multiple platform build/check report"
| Package 4/208 | OS | Arch | BUILD | CHECK | BUILD BIN | 
| affxparser1.7.2Kasper Daniel Hansen | Linux (SUSE 9.2) | x86_64 | OK | WARNINGS | |
| Linux (SUSE 10.1) | x86_64 | OK | WARNINGS | ||
| Linux (SUSE 9.2) | i686 | OK | WARNINGS | ||
| Solaris 2.9 | sparc | OK | WARNINGS | ||
| Windows Server 2003 | x86_64 | OK | WARNINGS | OK | |
| Windows Server 2003 | NA | [ OK ] | ERROR | OK | |
| Mac OS X (10.4.6) | i686 | OK | WARNINGS | 
| Package: affxparser | 
| Version: 1.7.2 | 
| Command: E:\biocbld\2.0d\R\bin\R.exe CMD build affxparser | 
| RetCode: 0 | 
| Time: 4.5 seconds | 
| Status: OK | 
| PackageFile: affxparser_1.7.2.tar.gz | 
* checking for file 'affxparser/DESCRIPTION' ... OK * preparing 'affxparser': * checking DESCRIPTION meta-information ... OK * cleaning src * removing junk files * checking for LF line-endings in source files * checking for empty or unneeded directories * building 'affxparser_1.7.2.tar.gz'