Back to the "Multiple platform build/check report"
| Package 3/208 | OS | Arch | BUILD | CHECK | BUILD BIN | 
adSplit1.5.0Claudio Lottaz | Linux (SUSE 9.2) | x86_64 | OK | OK | |
| Linux (SUSE 10.1) | x86_64 | OK | OK | ||
| Linux (SUSE 9.2) | i686 | OK | OK | ||
| Solaris 2.9 | sparc | OK | OK | ||
| Windows Server 2003 | x86_64 | OK | OK | OK | |
| Windows Server 2003 | NA | ERROR | skipped | skipped | |
| Mac OS X (10.4.6) | i686 | OK | OK | 
| "http://www.w3.org/TR/xhtml1/DTD/xhtml1-strict.dtd"> | 
Object not found! | 
  | 
| The requested URL was not found on this server. | 
| If you entered the URL manually please check your | 
| spelling and try again. | 
  | 
| If you think this is a server error, please contact | 
| the webmaster. | 
Error 404 | 
|   gopher5 | 
|   Tue Dec 12 11:48:13 2006 | 
| Apache/2.0.50 (Linux/SUSE) |