1.5.0Claudio Lottaz | Linux (SUSE 9.2)  | x86_64 |  OK  |  OK  |  | 
| Linux (SUSE 10.1)  | x86_64 |  OK  |  OK  |  | 
| Linux (SUSE 9.2)  | i686 |  OK  |  OK  |  | 
| Solaris 2.9  | sparc |  OK  |  OK  |  | 
| Windows Server 2003  | x86_64 |  OK  |  OK  | [ OK ] | 
| Windows Server 2003  | NA |  ERROR  | skipped | skipped | 
| Mac OS X (10.4.6)  | i686 |  OK  |  OK  |  | 
Using auto-selected zip options ''
---------- Making package adSplit ------------
  adding build stamp to DESCRIPTION
  installing NAMESPACE file and metadata
  making DLL ...
making adSplit.d from adSplit.cpp
g++   -ID:/biocbld/2.0d/R/include  -Wall -O2   -c adSplit.cpp -o adSplit.o
adSplit.cpp: In function `void isis(char**, double*, int*, int*, int*, int*, int*, double*, int*)':
adSplit.cpp:437: warning: 's' might be used uninitialized in this function
windres --include-dir D:/biocbld/2.0d/R/include  -i adSplit_res.rc -o adSplit_res.o
g++  -shared -s  -o adSplit.dll adSplit.def adSplit.o adSplit_res.o  -LD:/biocbld/2.0d/R/bin    -lR
  ... DLL made
  installing DLL
  installing R files
  save image
Loading required package: cluster
Loading required package: multtest
Loading required package: Biobase
Loading required package: tools
Welcome to Bioconductor
    Vignettes contain introductory material. To view, type
    'openVignette()' or start with 'help(Biobase)'. For details
    on reading vignettes, see the openVignette help page.
Loading required package: survival
Loading required package: splines
Loading required package: affy
Loading required package: affyio
Loading required package: GO
Loading required package: KEGG
  installing inst files
  installing data files
  installing man source files
  installing indices
  not zipping data
  installing help
 >>> Building/Updating help pages for package 'adSplit'
     Formats: text html latex example chm 
  adSplit-internal                  text    html    latex           chm
  adSplit                           text    html    latex   example chm
  diana2means                       text    html    latex   example chm
  drawRandomPS                      text    html    latex   example chm
  golubKEGGSplits                   text    html    latex   example chm
  hist.splitSet                     text    html    latex   example chm
  image.splitSet                    text    html    latex   example chm
  makeEID2PROBESenv                 text    html    latex   example chm
  print.split                       text    html    latex           chm
  print.splitSet                    text    html    latex   example chm
  randomDiana2means                 text    html    latex   example chm
Microsoft HTML Help Compiler 4.74.8702
Compiling d:\biocbld\2.0d\Rpacks\R.INSTALL\adSplit\chm\adSplit.chm
Compile time: 0 minutes, 0 seconds
12	Topics
28	Local links
0	Internet links
1	Graphic
Created d:\biocbld\2.0d\Rpacks\R.INSTALL\adSplit\chm\adSplit.chm, 28,268 bytes
Compression decreased file by 6,104 bytes.
  adding MD5 sums
packaged installation of package 'adSplit' as adSplit_1.5.0.zip
* DONE (adSplit)