Back to the "Multiple platform build/check report"
| Package 36/208 | OS | Arch | BUILD | CHECK | BUILD BIN | 
| BSgenome1.3.7H. Pages | Linux (SUSE 9.2) | x86_64 | OK | OK | |
| Linux (SUSE 10.1) | x86_64 | OK | OK | ||
| Linux (SUSE 9.2) | i686 | OK | OK | ||
| Solaris 2.9 | sparc | OK | OK | ||
| Windows Server 2003 | x86_64 | OK | OK | OK | |
| Windows Server 2003 | NA | [ OK ] | ERROR | OK | |
| Mac OS X (10.4.6) | i686 | OK | ERROR | 
| Package: BSgenome | 
| Version: 1.3.7 | 
| Command: E:\biocbld\2.0d\R\bin\R.exe CMD build BSgenome | 
| RetCode: 0 | 
| Time: 1.5 seconds | 
| Status: OK | 
| PackageFile: BSgenome_1.3.7.tar.gz | 
* checking for file 'BSgenome/DESCRIPTION' ... OK * preparing 'BSgenome': * checking DESCRIPTION meta-information ... OK * removing junk files * checking for LF line-endings in source files * checking for empty or unneeded directories * building 'BSgenome_1.3.7.tar.gz'