1.7.0Yu Chuan Tai | Linux (SUSE 9.2)  | x86_64 |  OK  |  OK  |  | 
| Linux (SUSE 10.1)  | x86_64 |  OK  |  OK  |  | 
| Linux (SUSE 9.2)  | i686 |  OK  |  OK  |  | 
| Solaris 2.9  | sparc |  OK  |  OK  |  | 
| Windows Server 2003  | x86_64 |  OK  |  OK  | [ OK ] | 
| Windows Server 2003  | NA |  ERROR  | skipped | skipped | 
| Mac OS X (10.4.6)  | i686 |  OK  |  OK  |  | 
Using auto-selected zip options 'timecourse-ZIPDATA=zip'
---------- Making package timecourse ------------
  adding build stamp to DESCRIPTION
  installing R files
  installing inst files
  installing data files
  installing man source files
  installing indices
  zipping data
  installing help
 >>> Building/Updating help pages for package 'timecourse'
     Formats: text html latex example chm 
  abs2ratio                         text    html    latex           chm
  fruitfly                          text    html    latex           chm
  marrayTC-class                    text    html    latex           chm
  matrix.cov                        text    html    latex           chm
  mb.MANOVA                         text    html    latex   example chm
  mb.long                           text    html    latex   example chm
  ot.helmert                        text    html    latex           chm
  plotProfile                       text    html    latex           chm
  univ.func                         text    html    latex           chm
Microsoft HTML Help Compiler 4.74.8702
Compiling d:\biocbld\2.0d\Rpacks\R.INSTALL\timecourse\chm\timecourse.chm
Compile time: 0 minutes, 0 seconds
10	Topics
27	Local links
2	Internet links
1	Graphic
Created d:\biocbld\2.0d\Rpacks\R.INSTALL\timecourse\chm\timecourse.chm, 34,959 bytes
Compression decreased file by 15,761 bytes.
  preparing package timecourse for lazy loading
Loading required package: limma
Loading required package: MASS
Loading required package: Biobase
Loading required package: tools
Welcome to Bioconductor
    Vignettes contain introductory material. To view, type
    'openVignette()' or start with 'help(Biobase)'. For details
    on reading vignettes, see the openVignette help page.
  adding MD5 sums
packaged installation of package 'timecourse' as timecourse_1.7.0.zip
* DONE (timecourse)