1.7.0Gregory R. Warnes | Linux (SUSE 9.2)  | x86_64 |  OK  |  OK  |  | 
| Linux (SUSE 10.1)  | x86_64 |  OK  |  OK  |  | 
| Linux (SUSE 9.2)  | i686 |  OK  |  OK  |  | 
| Solaris 2.9  | sparc |  OK  |  OK  |  | 
| Windows Server 2003  | x86_64 |  OK  |  OK  | [ OK ] | 
| Windows Server 2003  | NA |  OK  |  ERROR  |  OK  | 
| Mac OS X (10.4.6)  | i686 |  OK  |  OK  |  | 
Using auto-selected zip options 'ssize-ZIPDATA=zip'
---------- Making package ssize ------------
  adding build stamp to DESCRIPTION
  installing R files
  installing inst files
  installing data files
  installing man source files
  installing indices
  zipping data
  installing help
 >>> Building/Updating help pages for package 'ssize'
     Formats: text html latex example chm 
  exp.sd                            text    html    latex   example chm
  pow                               text    html    latex   example chm
Microsoft HTML Help Compiler 4.74.8702
Compiling d:\biocbld\2.0d\Rpacks\R.INSTALL\ssize\chm\ssize.chm
Compile time: 0 minutes, 0 seconds
3	Topics
11	Local links
1	Internet link
1	Graphic
Created d:\biocbld\2.0d\Rpacks\R.INSTALL\ssize\chm\ssize.chm, 20,966 bytes
Compression increased file by 5,512 bytes.
  adding MD5 sums
packaged installation of package 'ssize' as ssize_1.7.0.zip
* DONE (ssize)