Using auto-selected zip options ''
---------- Making package occugene ------------
  adding build stamp to DESCRIPTION
  installing NAMESPACE file and metadata
  installing R files
  installing inst files
  installing data files
  installing man source files
  installing indices
  not zipping data
  installing help
 >>> Building/Updating help pages for package 'occugene'
     Formats: text html latex example chm 
  binHist                           text    html    latex   example chm
  binInsert                         text    html    latex   example chm
  binInsertHist                     text    html    latex   example chm
  checkFormat                       text    html    latex   example chm
  delta0                            text    html    latex   example chm
  eMult                             text    html    latex   example chm
  etDelta                           text    html    latex   example chm
  fCumul                            text    html    latex   example chm
  fFit                              text    html    latex   example chm
  loadAnnotation                    text    html    latex   example chm
  loadInsertions                    text    html    latex   example chm
  occup2Negenes                     text    html    latex   example chm
  sampleAnnotation                  text    html    latex           chm
  sampleInsertions                  text    html    latex           chm
  unbiasB0                          text    html    latex   example chm
  unbiasDelta0                      text    html    latex   example chm
  varMult                           text    html    latex   example chm
Microsoft HTML Help Compiler 4.74.8702
Compiling d:\biocbld\2.0d\Rpacks\R.INSTALL\occugene\chm\occugene.chm
Compile time: 0 minutes, 0 seconds
18	Topics
34	Local links
0	Internet links
1	Graphic
Created d:\biocbld\2.0d\Rpacks\R.INSTALL\occugene\chm\occugene.chm, 26,787 bytes
Compression decreased file by 16,755 bytes.
  preparing package occugene for lazy loading
  adding MD5 sums
packaged installation of package 'occugene' as occugene_0.1.0.zip
* DONE (occugene)