Back to the "Multiple platform build/check report"
| Package 91/208 | OS | Arch | BUILD | CHECK | BUILD BIN | 
| hopach1.9.1Katherine S. Pollard | Linux (SUSE 9.2) | x86_64 | OK | OK | |
| Linux (SUSE 10.1) | x86_64 | OK | OK | ||
| Linux (SUSE 9.2) | i686 | OK | OK | ||
| Solaris 2.9 | sparc | OK | OK | ||
| Windows Server 2003 | x86_64 | OK | [ OK ] | OK | |
| Windows Server 2003 | NA | ERROR | skipped | skipped | |
| Mac OS X (10.4.6) | i686 | OK | OK | 
| Package: hopach | 
| Version: 1.9.1 | 
| Command: D:\biocbld\2.0d\R\bin\R.exe CMD check hopach_1.9.1.tar.gz | 
| RetCode: 0 | 
| Time: 174.5 seconds | 
| Status: OK | 
| CheckDir: hopach.Rcheck | 
| Warnings: 0 | 
* checking for working latex ... OK * using log directory 'D:/biocbld/2.0d/Rpacks/hopach.Rcheck' * using R version 2.5.0 Under development (unstable) (2006-12-05 r40126) * checking for file 'hopach/DESCRIPTION' ... OK * this is package 'hopach' version '1.9.1' * checking package dependencies ... OK * checking if this is a source package ... OK * checking whether package 'hopach' can be installed ... OK * checking package directory ... OK * checking for portable file names ... OK * checking DESCRIPTION meta-information ... OK * checking top-level files ... OK * checking index information ... OK * checking package subdirectories ... OK * checking R files for syntax errors ... OK * checking R files for non-ASCII characters ... OK * checking whether the package can be loaded ... OK * checking whether the package can be loaded with stated dependencies ... OK * checking S3 generic/method consistency ... OK * checking replacement functions ... OK * checking foreign function calls ... OK * checking R code for possible problems ... OK * checking Rd files ... OK * checking Rd cross-references ... OK * checking for missing documentation entries ... OK * checking for code/documentation mismatches ... OK * checking Rd \usage sections ... OK * creating hopach-Ex.R ... OK * checking examples ... OK * checking package vignettes in 'inst/doc' ... OK * creating hopach-manual.tex ... OK * checking hopach-manual.tex ... OK
hopach.Rcheck/00install.out:
installing R.css in D:/biocbld/2.0d/Rpacks/hopach.Rcheck
---------- Making package hopach ------------
  adding build stamp to DESCRIPTION
  installing R files
  installing inst files
  installing data files
  installing man source files
  installing indices
  not zipping data
  installing help
 >>> Building/Updating help pages for package 'hopach'
     Formats: text html latex example chm 
  boot2fuzzy                        text    html    latex   example chm
  bootplot                          text    html    latex   example chm
  bootstrap                         text    html    latex   example chm
  correlationordering               text    html    latex   example chm
  disscosangle                      text    html    latex   example chm
  distancematrix                    text    html    latex   example chm
  dplot                             text    html    latex   example chm
  golub                             text    html    latex           chm
  hopach                            text    html    latex   example chm
  hopach.internal                   text    html    latex   example chm
  hopach2tree                       text    html    latex   example chm
  labelstomss                       text    html    latex   example chm
  makeoutput                        text    html    latex   example chm
  prune                             text    html    latex   example chm
Microsoft HTML Help Compiler 4.74.8702
Compiling d:\biocbld\2.0d\Rpacks\hopach.Rcheck\00_pkg_src\hopach\chm\hopach.chm
Compile time: 0 minutes, 0 seconds
15	Topics
69	Local links
22	Internet links
1	Graphic
Created d:\biocbld\2.0d\Rpacks\hopach.Rcheck\00_pkg_src\hopach\chm\hopach.chm, 60,811 bytes
Compression decreased file by 51,491 bytes.
  preparing package hopach for lazy loading
Loading required package: cluster
Loading required package: Biobase
Loading required package: tools
Welcome to Bioconductor
    Vignettes contain introductory material. To view, type
    'openVignette()' or start with 'help(Biobase)'. For details
    on reading vignettes, see the openVignette help page.
  adding MD5 sums
* DONE (hopach)