1.7.0Effi Kenigsberg | Linux (SUSE 9.2)  | x86_64 |  OK  |  OK  |  | 
| Linux (SUSE 10.1)  | x86_64 |  OK  |  OK  |  | 
| Linux (SUSE 9.2)  | i686 |  OK  |  OK  |  | 
| Solaris 2.9  | sparc |  OK  |  OK  |  | 
| Windows Server 2003  | x86_64 |  OK  |  OK  | [ OK ] | 
| Windows Server 2003  | NA |  OK  |  ERROR  |  OK  | 
| Mac OS X (10.4.6)  | i686 |  OK  |  OK  |  | 
Using auto-selected zip options 'fdrame-ZIPDATA=zip'
---------- Making package fdrame ------------
  adding build stamp to DESCRIPTION
  making DLL ...
making fdr.d from fdr.c
gcc   -ID:/biocbld/2.0d/R/include  -Wall -O2 -std=gnu99   -c fdr.c -o fdr.o
windres --include-dir D:/biocbld/2.0d/R/include  -i fdrame_res.rc -o fdrame_res.o
gcc  -shared -s  -o fdrame.dll fdrame.def fdr.o fdrame_res.o  -LD:/biocbld/2.0d/R/bin    -lR
  ... DLL made
  installing DLL
  installing R files
  installing inst files
  installing data files
  installing man source files
  installing indices
  zipping data
  installing help
 >>> Building/Updating help pages for package 'fdrame'
     Formats: text html latex example chm 
  design                            text    html    latex   example chm
  exp.arr                           text    html    latex   example chm
  fdr-internal                      text    html    latex           chm
  fdrgui                            text    html    latex   example chm
  fdrma                             text    html    latex   example chm
Microsoft HTML Help Compiler 4.74.8702
Compiling d:\biocbld\2.0d\Rpacks\R.INSTALL\fdrame\chm\fdrame.chm
Compile time: 0 minutes, 0 seconds
6	Topics
9	Local links
0	Internet links
1	Graphic
Created d:\biocbld\2.0d\Rpacks\R.INSTALL\fdrame\chm\fdrame.chm, 21,511 bytes
Compression decreased file by 47 bytes.
  preparing package fdrame for lazy loading
  adding MD5 sums
packaged installation of package 'fdrame' as fdrame_1.7.0.zip
* DONE (fdrame)