1.9.1Yee Hwa (Jean) Yang | Linux (SUSE 9.2)  | x86_64 |  OK  |  OK  |  | 
| Linux (SUSE 10.1)  | x86_64 |  OK  |  OK  |  | 
| Linux (SUSE 9.2)  | i686 |  OK  |  OK  |  | 
| Solaris 2.9  | sparc |  OK  |  OK  |  | 
| Windows Server 2003  | x86_64 | [ OK ] |  OK  |  OK  | 
| Windows Server 2003  | NA |  OK  |  ERROR  |  OK  | 
| Mac OS X (10.4.6)  | i686 |  OK  |  OK  |  | 
* checking for file 'convert/DESCRIPTION' ... OK
* preparing 'convert':
* checking DESCRIPTION meta-information ... OK
* installing the package to re-build vignettes
installing R.css in D:/biocbld/2.0d/tmpdir/Rinst59668646
---------- Making package convert ------------
  adding build stamp to DESCRIPTION
  installing R files
  installing inst files
  installing man source files
  installing indices
  installing help
 >>> Building/Updating help pages for package 'convert'
     Formats: text html latex example chm 
  coerce                            text    html    latex   example chm
Microsoft HTML Help Compiler 4.74.8702
Compiling d:\biocbld\2.0d\Rpacks\convert\chm\convert.chm
Compile time: 0 minutes, 0 seconds
2	Topics
12	Local links
0	Internet links
1	Graphic
Created d:\biocbld\2.0d\Rpacks\convert\chm\convert.chm, 18,062 bytes
Compression increased file by 5,115 bytes.
  adding MD5 sums
* DONE (convert)
* creating vignettes ... OK
* removing junk files
* checking for LF line-endings in source files
* checking for empty or unneeded directories
* building 'convert_1.9.1.tar.gz'