Back to the "Multiple platform build/check report"
| Package 31/208 | OS | Arch | BUILD | CHECK | BUILD BIN | 
bioDist1.7.1Biocore Team | Linux (SUSE 9.2) | x86_64 | OK | OK | |
| Linux (SUSE 10.1) | x86_64 | OK | OK | ||
| Linux (SUSE 9.2) | i686 | OK | OK | ||
| Solaris 2.9 | sparc | OK | OK | ||
| Windows Server 2003 | x86_64 | [ OK ] | OK | OK | |
| Windows Server 2003 | NA | OK | ERROR | OK | |
| Mac OS X (10.4.6) | i686 | OK | OK | 
| Package: bioDist | 
| Version: 1.7.1 | 
| Command: D:\biocbld\2.0d\R\bin\R.exe CMD build bioDist | 
| RetCode: 0 | 
| Time: 1.5 seconds | 
| Status: OK | 
| PackageFile: bioDist_1.7.1.tar.gz | 
* checking for file 'bioDist/DESCRIPTION' ... OK * preparing 'bioDist': * checking DESCRIPTION meta-information ... OK * removing junk files * excluding invalid files from 'bioDist' Subdirectory 'man' contains invalid file names: dens2func.old locf2func.old * checking for LF line-endings in source files * checking for empty or unneeded directories * building 'bioDist_1.7.1.tar.gz'