1.9.0Matthias Futschik | Linux (SUSE 9.2)  | x86_64 |  OK  |  OK  |  | 
| Linux (SUSE 10.1)  | x86_64 |  OK  |  OK  |  | 
| Linux (SUSE 9.2)  | i686 |  OK  |  OK  |  | 
| Solaris 2.9  | sparc |  OK  |  OK  |  | 
| Windows Server 2003  | x86_64 |  OK  |  OK  | [ OK ] | 
| Windows Server 2003  | NA |  ERROR  | skipped | skipped | 
| Mac OS X (10.4.6)  | i686 |  OK  |  OK  |  | 
Using auto-selected zip options ''
---------- Making package OLINgui ------------
  adding build stamp to DESCRIPTION
  installing R files
  installing inst files
  installing man source files
  installing indices
  installing help
 >>> Building/Updating help pages for package 'OLINgui'
     Formats: text html latex example chm 
  OLINgui                           text    html    latex           chm
Microsoft HTML Help Compiler 4.74.8702
Compiling d:\biocbld\2.0d\Rpacks\R.INSTALL\OLINgui\chm\OLINgui.chm
Compile time: 0 minutes, 0 seconds
2	Topics
2	Local links
3	Internet links
1	Graphic
Created d:\biocbld\2.0d\Rpacks\R.INSTALL\OLINgui\chm\OLINgui.chm, 17,724 bytes
Compression increased file by 8,685 bytes.
  preparing package OLINgui for lazy loading
Loading required package: OLIN
Loading required package: locfit
Loading required package: akima
Loading required package: lattice
Loading required package: Biobase
Loading required package: tools
Welcome to Bioconductor
    Vignettes contain introductory material. To view, type
    'openVignette()' or start with 'help(Biobase)'. For details
    on reading vignettes, see the openVignette help page.
Loading required package: marray
Loading required package: limma
  adding MD5 sums
packaged installation of package 'OLINgui' as OLINgui_1.9.0.zip
* DONE (OLINgui)