1.5.0Brian Steinmeyer | Linux (SUSE 9.2)  | x86_64 |  OK  |  OK  |  | 
| Linux (SUSE 10.1)  | x86_64 |  OK  |  OK  |  | 
| Linux (SUSE 9.2)  | i686 |  OK  |  OK  |  | 
| Solaris 2.9  | sparc |  OK  |  OK  |  | 
| Windows Server 2003  | x86_64 |  OK  |  OK  | [ OK ] | 
| Windows Server 2003  | NA |  ERROR  | skipped | skipped | 
| Mac OS X (10.4.6)  | i686 |  OK  |  OK  |  | 
Using auto-selected zip options 'MantelCorr-ZIPDATA=zip'
---------- Making package MantelCorr ------------
  adding build stamp to DESCRIPTION
  installing R files
  installing inst files
  installing data files
  installing man source files
  installing indices
  zipping data
  installing help
 >>> Building/Updating help pages for package 'MantelCorr'
     Formats: text html latex example chm 
  ClusterGeneList                   text    html    latex   example chm
  ClusterList                       text    html    latex   example chm
  DistMatrices                      text    html    latex   example chm
  GetClusters                       text    html    latex   example chm
  GolubTrain                        text    html    latex   example chm
  MantelCorrs                       text    html    latex   example chm
  PermutationTest                   text    html    latex   example chm
Microsoft HTML Help Compiler 4.74.8702
Compiling d:\biocbld\2.0d\Rpacks\R.INSTALL\MantelCorr\chm\MantelCorr.chm
Compile time: 0 minutes, 0 seconds
8	Topics
14	Local links
0	Internet links
1	Graphic
Created d:\biocbld\2.0d\Rpacks\R.INSTALL\MantelCorr\chm\MantelCorr.chm, 23,399 bytes
Compression decreased file by 2,843 bytes.
  adding MD5 sums
packaged installation of package 'MantelCorr' as MantelCorr_1.5.0.zip
* DONE (MantelCorr)