Back to the "Multiple platform build/check report"
| Package 79/208 | OS | Arch | BUILD | CHECK | BUILD BIN | 
| GlobalAncova2.5.1R. Meister | Linux (SUSE 9.2) | x86_64 | OK | OK | |
| Linux (SUSE 10.1) | x86_64 | OK | OK | ||
| Linux (SUSE 9.2) | i686 | ERROR | skipped | ||
| Solaris 2.9 | sparc | ERROR | skipped | ||
| Windows Server 2003 | x86_64 | OK | [ OK ] | OK | |
| Windows Server 2003 | NA | OK | ERROR | OK | |
| Mac OS X (10.4.6) | i686 | OK | WARNINGS | 
| Package: GlobalAncova | 
| Version: 2.5.1 | 
| Command: D:\biocbld\2.0d\R\bin\R.exe CMD check GlobalAncova_2.5.1.tar.gz | 
| RetCode: 0 | 
| Time: 282.0 seconds | 
| Status: OK | 
| CheckDir: GlobalAncova.Rcheck | 
| Warnings: 0 | 
* checking for working latex ... OK * using log directory 'D:/biocbld/2.0d/Rpacks/GlobalAncova.Rcheck' * using R version 2.5.0 Under development (unstable) (2006-12-05 r40126) * checking for file 'GlobalAncova/DESCRIPTION' ... OK * this is package 'GlobalAncova' version '2.5.1' * checking package dependencies ... OK * checking if this is a source package ... OK * checking whether package 'GlobalAncova' can be installed ... OK * checking package directory ... OK * checking for portable file names ... OK * checking DESCRIPTION meta-information ... OK * checking top-level files ... OK * checking index information ... OK * checking package subdirectories ... OK * checking R files for syntax errors ... OK * checking R files for non-ASCII characters ... OK * checking whether the package can be loaded ... OK * checking whether the package can be loaded with stated dependencies ... OK * checking whether the name space can be loaded with stated dependencies ... OK * checking S3 generic/method consistency ... OK * checking replacement functions ... OK * checking foreign function calls ... OK * checking R code for possible problems ... OK * checking Rd files ... OK * checking Rd cross-references ... OK * checking for missing documentation entries ... OK * checking for code/documentation mismatches ... OK * checking Rd \usage sections ... OK * creating GlobalAncova-Ex.R ... OK * checking examples ... OK * checking package vignettes in 'inst/doc' ... OK * creating GlobalAncova-manual.tex ... OK * checking GlobalAncova-manual.tex ... OK
GlobalAncova.Rcheck/00install.out:
installing R.css in D:/biocbld/2.0d/Rpacks/GlobalAncova.Rcheck
---------- Making package GlobalAncova ------------
  adding build stamp to DESCRIPTION
  installing NAMESPACE file and metadata
  installing R files
  installing inst files
  installing data files
  installing man source files
  installing indices
  not zipping data
  installing help
 >>> Building/Updating help pages for package 'GlobalAncova'
     Formats: text html latex example chm 
  GlobalAncova-methods              text    html    latex           chm
  GlobalAncova                      text    html    latex   example chm
  GlobalAncova.closed-methods       text    html    latex           chm
  GlobalAncova.closed               text    html    latex           chm
  Plot.genes-methods                text    html    latex           chm
  Plot.genes                        text    html    latex   example chm
  Plot.subjects-methods             text    html    latex           chm
  Plot.subjects                     text    html    latex   example chm
  pathways                          text    html    latex   example chm
  phenodata                         text    html    latex   example chm
  vantVeer                          text    html    latex   example chm
Microsoft HTML Help Compiler 4.74.8702
Compiling d:\biocbld\2.0d\Rpacks\GlobalAncova.Rcheck\00_pkg_src\GlobalAncova\chm\GlobalAncova.chm
Compile time: 0 minutes, 0 seconds
12	Topics
46	Local links
0	Internet links
1	Graphic
Created d:\biocbld\2.0d\Rpacks\GlobalAncova.Rcheck\00_pkg_src\GlobalAncova\chm\GlobalAncova.chm, 31,989 bytes
Compression decreased file by 30,621 bytes.
  preparing package GlobalAncova for lazy loading
  adding MD5 sums
* DONE (GlobalAncova)