1.7.0Daniel Iordan | Linux (SUSE 9.2)  | x86_64 |  OK  |  OK  |  | 
| Linux (SUSE 10.1)  | x86_64 |  OK  |  OK  |  | 
| Linux (SUSE 9.2)  | i686 |  OK  |  OK  |  | 
| Solaris 2.9  | sparc |  OK  |  OK  |  | 
| Windows Server 2003  | x86_64 | [ OK ] |  ERROR  |  ERROR  | 
| Windows Server 2003  | NA |  OK  |  ERROR  |  ERROR  | 
| Mac OS X (10.4.6)  | i686 |  OK  |  OK  |  | 
* checking for file 'GeneTraffic/DESCRIPTION' ... OK
* preparing 'GeneTraffic':
* checking DESCRIPTION meta-information ... OK
* checking whether 'INDEX' is up-to-date ... NO
* use '--force' to overwrite the existing 'INDEX'
* removing junk files
* checking for LF line-endings in source files
* checking for empty or unneeded directories
* building 'GeneTraffic_1.7.0.tar.gz'