2.7.0Thon de Boer | Linux (SUSE 9.2)  | x86_64 |  OK  |  OK  |  | 
| Linux (SUSE 10.1)  | x86_64 |  OK  |  OK  |  | 
| Linux (SUSE 9.2)  | i686 |  OK  |  OK  |  | 
| Solaris 2.9  | sparc |  OK  |  OK  |  | 
| Windows Server 2003  | x86_64 |  OK  |  OK  | [ OK ] | 
| Windows Server 2003  | NA |  OK  |  ERROR  |  OK  | 
| Mac OS X (10.4.6)  | i686 |  OK  |  OK  |  | 
Using auto-selected zip options ''
---------- Making package GeneSpring ------------
  adding build stamp to DESCRIPTION
  installing R files
  save image
Loading required package: Biobase
Loading required package: tools
Welcome to Bioconductor
    Vignettes contain introductory material. To view, type
    'openVignette()' or start with 'help(Biobase)'. For details
    on reading vignettes, see the openVignette help page.
[1] "GSint"
[1] "show"
  installing inst files
  installing man source files
  installing indices
  installing help
 >>> Building/Updating help pages for package 'GeneSpring'
     Formats: text html latex example chm 
  GSint                             text    html    latex   example chm
  GSint2BC                          text    html    latex   example chm
  GSload.exp                        text    html    latex   example chm
  GSload.genelist                   text    html    latex   example chm
  GSload.int                        text    html    latex   example chm
  GSsave.exp                        text    html    latex   example chm
Microsoft HTML Help Compiler 4.74.8702
Compiling d:\biocbld\2.0d\Rpacks\R.INSTALL\GeneSpring\chm\GeneSpring.chm
Compile time: 0 minutes, 0 seconds
7	Topics
40	Local links
6	Internet links
1	Graphic
Created d:\biocbld\2.0d\Rpacks\R.INSTALL\GeneSpring\chm\GeneSpring.chm, 29,237 bytes
Compression decreased file by 8,895 bytes.
  adding MD5 sums
packaged installation of package 'GeneSpring' as GeneSpring_2.7.0.zip
* DONE (GeneSpring)