Back to the "Multiple platform build/check report"
| Package 67/208 | OS | Arch | BUILD | CHECK | BUILD BIN |
GeneMeta1.7.1Biocore Team | Linux (SUSE 9.2) | x86_64 | OK | OK | |
| Linux (SUSE 10.1) | x86_64 | OK | [ OK ] | ||
| Linux (SUSE 9.2) | i686 | OK | OK | ||
| Solaris 2.9 | sparc | OK | OK | ||
| Windows Server 2003 | x86_64 | OK | OK | OK | |
| Windows Server 2003 | NA | ERROR | skipped | skipped | |
| Mac OS X (10.4.6) | i686 | OK | OK |
| Package: GeneMeta |
| Version: 1.7.1 |
| Command: /home/biocbuild/2.0d/R/bin/R CMD check GeneMeta_1.7.1.tar.gz |
| RetCode: 0 |
| Time: 73.6 seconds |
| Status: OK |
| CheckDir: GeneMeta.Rcheck |
| Warnings: 0 |
* checking for working latex ... OK * using log directory '/home/biocbuild/2.0d/Rpacks/GeneMeta.Rcheck' * using R version 2.5.0 Under development (unstable) (2006-12-05 r40126) * checking for file 'GeneMeta/DESCRIPTION' ... OK * this is package 'GeneMeta' version '1.7.1' * checking package dependencies ... OK * checking if this is a source package ... OK * checking whether package 'GeneMeta' can be installed ... OK * checking package directory ... OK * checking for portable file names ... OK * checking for sufficient/correct file permissions ... OK * checking DESCRIPTION meta-information ... OK * checking top-level files ... OK * checking index information ... OK * checking package subdirectories ... OK * checking R files for syntax errors ... OK * checking R files for non-ASCII characters ... OK * checking whether the package can be loaded ... OK * checking whether the package can be loaded with stated dependencies ... OK * checking whether the name space can be loaded with stated dependencies ... OK * checking S3 generic/method consistency ... OK * checking replacement functions ... OK * checking foreign function calls ... OK * checking R code for possible problems ... OK * checking Rd files ... OK * checking Rd cross-references ... OK * checking for missing documentation entries ... OK * checking for code/documentation mismatches ... OK * checking Rd \usage sections ... OK * creating GeneMeta-Ex.R ... OK * checking examples ... OK * checking package vignettes in 'inst/doc' ... OK * creating GeneMeta-manual.tex ... OK * checking GeneMeta-manual.tex ... OK
GeneMeta.Rcheck/00install.out:
* Installing *source* package 'GeneMeta' ...
** R
** data
** inst
** save image
Loading required package: Biobase
Loading required package: tools
Welcome to Bioconductor
Vignettes contain introductory material. To view, type
'openVignette()' or start with 'help(Biobase)'. For details
on reading vignettes, see the openVignette help page.
Loading required package: genefilter
Loading required package: survival
Loading required package: splines
** help
>>> Building/Updating help pages for package 'GeneMeta'
Formats: text html latex example
CountPlot text html latex example
Nevins text html latex example
dstar text html latex example
f.Q text html latex example
tau text html latex example
zscore text html latex example
** building package indices ...
* DONE (GeneMeta)