1.7.0William T. Barry | Linux (SUSE 9.2)  | x86_64 | [ OK ] |  OK  |  | 
| Linux (SUSE 10.1)  | x86_64 |  OK  |  OK  |  | 
| Linux (SUSE 9.2)  | i686 |  OK  |  OK  |  | 
| Solaris 2.9  | sparc |  OK  |  OK  |  | 
| Windows Server 2003  | x86_64 |  OK  |  OK  |  OK  | 
| Windows Server 2003  | NA |  OK  |  ERROR  |  OK  | 
| Mac OS X (10.4.6)  | i686 |  OK  |  OK  |  | 
* checking for file 'safe/DESCRIPTION' ... OK
* preparing 'safe':
* checking DESCRIPTION meta-information ... OK
* installing the package to re-build vignettes
* Installing *source* package 'safe' ...
** R
** inst
** help
 >>> Building/Updating help pages for package 'safe'
     Formats: text html latex example 
  SAFE-class                        text    html    latex
  getCmatrix                        text    html    latex   example
  getPImatrix                       text    html    latex   example
  safe-internal                     text    html    latex
  safe                              text    html    latex   example
  safeplot                          text    html    latex   example
** building package indices ...
* DONE (safe)
* creating vignettes ... OK
* removing junk files
* checking for LF line-endings in source files
* checking for empty or unneeded directories
* building 'safe_1.7.0.tar.gz'