0.99.29Benilton Carvalho | Linux (SUSE 9.2)  | x86_64 | [ OK ] |  WARNINGS  |  | 
| Linux (SUSE 10.1)  | x86_64 |  OK  |  WARNINGS  |  | 
| Linux (SUSE 9.2)  | i686 |  OK  |  WARNINGS  |  | 
| Solaris 2.9  | sparc |  OK  |  WARNINGS  |  | 
| Windows Server 2003  | x86_64 |  OK  |  WARNINGS  |  OK  | 
| Windows Server 2003  | NA |  OK  |  ERROR  |  OK  | 
| Mac OS X (10.4.6)  | i686 |  OK  |  WARNINGS  |  | 
* checking for file 'oligo/DESCRIPTION' ... OK
* preparing 'oligo':
* checking DESCRIPTION meta-information ... OK
* cleaning src
* running cleanup
* removing junk files
* checking for LF line-endings in source files
* checking for empty or unneeded directories
WARNING: directory 'oligo/data' is empty
WARNING: directory 'oligo/test' is empty
* building 'oligo_0.99.29.tar.gz'