Back to the "Multiple platform build/check report"
| Package 203/208 | OS | Arch | BUILD | CHECK | BUILD BIN |
vsn1.13.1Wolfgang Huber | Linux (SUSE 9.2) | x86_64 | OK | OK | |
| Linux (SUSE 10.1) | x86_64 | OK | OK | ||
| Linux (SUSE 9.2) | i686 | OK | OK | ||
| Solaris 2.9 | sparc | OK | OK | ||
| Windows Server 2003 | x86_64 | OK | OK | OK | |
| Windows Server 2003 | NA | OK | ERROR | OK | |
| Mac OS X (10.4.6) | i686 | OK | [ OK ] |
| Package: vsn |
| Version: 1.13.1 |
| Command: /Library/Frameworks/R.framework/Resources/bin/R CMD check vsn_1.13.1.tar.gz |
| RetCode: 0 |
| Time: 698.7 seconds |
| Status: OK |
| CheckDir: vsn.Rcheck |
| Warnings: 0 |
* checking for working latex ... OK * using log directory '/Users/biocbuild/2.0d/Rpacks/vsn.Rcheck' * using R version 2.5.0 Under development (unstable) (2006-10-21 r39702) * checking for file 'vsn/DESCRIPTION' ... OK * this is package 'vsn' version '1.13.1' * checking package dependencies ... OK * checking if this is a source package ... OK * checking whether package 'vsn' can be installed ... OK * checking package directory ... OK * checking for portable file names ... OK * checking for sufficient/correct file permissions ... OK * checking DESCRIPTION meta-information ... OK * checking top-level files ... OK * checking index information ... OK * checking package subdirectories ... OK * checking R files for syntax errors ... OK * checking R files for non-ASCII characters ... OK * checking whether the package can be loaded ... OK * checking whether the package can be loaded with stated dependencies ... OK * checking whether the name space can be loaded with stated dependencies ... OK * checking S3 generic/method consistency ... OK * checking replacement functions ... OK * checking foreign function calls ... OK * checking R code for possible problems ... OK * checking Rd files ... OK * checking Rd cross-references ... OK * checking for missing documentation entries ... OK * checking for code/documentation mismatches ... OK * checking Rd \usage sections ... OK * checking for CRLF line endings in C/C++/Fortran sources/headers ... OK * checking for portable use of $BLAS_LIBS ... OK * creating vsn-Ex.R ... OK * checking examples ... OK * checking package vignettes in 'inst/doc' ... OK * creating vsn-manual.tex ... OK * checking vsn-manual.tex ... OK
vsn.Rcheck/00install.out:
* Installing *source* package 'vsn' ...
** libs
** arch - i386
gcc-4.0 -arch i386 -I/Library/Frameworks/R.framework/Resources/include -I/Library/Frameworks/R.framework/Resources/include/i386 -msse3 -D__NO_MATH_INLINES -fPIC -g -O2 -std=gnu99 -march=pentium-m -mtune=prescott -c vsn.c -o vsn.o
/var/tmp//ccj859ZV.s:1571:indirect jmp without `*'
/var/tmp//ccj859ZV.s:1586:indirect jmp without `*'
/var/tmp//ccj859ZV.s:1601:indirect jmp without `*'
/var/tmp//ccj859ZV.s:1616:indirect jmp without `*'
/var/tmp//ccj859ZV.s:1631:indirect jmp without `*'
/var/tmp//ccj859ZV.s:1646:indirect jmp without `*'
/var/tmp//ccj859ZV.s:1661:indirect jmp without `*'
/var/tmp//ccj859ZV.s:1676:indirect jmp without `*'
/var/tmp//ccj859ZV.s:1691:indirect jmp without `*'
/var/tmp//ccj859ZV.s:1706:indirect jmp without `*'
/var/tmp//ccj859ZV.s:1721:indirect jmp without `*'
/var/tmp//ccj859ZV.s:1736:indirect jmp without `*'
/var/tmp//ccj859ZV.s:1751:indirect jmp without `*'
/var/tmp//ccj859ZV.s:1766:indirect jmp without `*'
/var/tmp//ccj859ZV.s:1781:indirect jmp without `*'
/var/tmp//ccj859ZV.s:1796:indirect jmp without `*'
/var/tmp//ccj859ZV.s:1811:indirect jmp without `*'
/var/tmp//ccj859ZV.s:1826:indirect jmp without `*'
/var/tmp//ccj859ZV.s:1845:indirect jmp without `*'
/var/tmp//ccj859ZV.s:1860:indirect jmp without `*'
gcc-4.0 -arch i386 -dynamiclib -Wl,-macosx_version_min -Wl,10.3 -undefined dynamic_lookup -single_module -multiply_defined suppress -L/usr/local/lib -o vsn.so vsn.o -F/Library/Frameworks/R.framework/.. -framework R
** arch - ppc
gcc-4.0 -arch ppc -std=gnu99 -I/Library/Frameworks/R.framework/Resources/include -I/Library/Frameworks/R.framework/Resources/include/ppc -I/usr/local/include -fPIC -g -O2 -c vsn.c -o vsn.o
gcc-4.0 -arch ppc -std=gnu99 -dynamiclib -Wl,-macosx_version_min -Wl,10.3 -undefined dynamic_lookup -single_module -multiply_defined suppress -L/usr/local/lib -o vsn.so vsn.o -F/Library/Frameworks/R.framework/.. -framework R
** R
** data
** inst
** help
>>> Building/Updating help pages for package 'vsn'
Formats: text html latex example
getIntensityMatrix text html latex example
kidney text html latex example
lymphoma text html latex example
meanSdPlot text html latex example
normalize.AffyBatch.vsn text html latex example
sagmbSimulateData text html latex example
vsn text html latex example
vsnPlotPar text html latex example
vsnh text html latex example
** building package indices ...
* DONE (vsn)