Back to the "Multiple platform build/check report"
| Package 190/208 | OS | Arch | BUILD | CHECK | BUILD BIN | 
| spikeLI1.3.0Enrico Carlon | Linux (SUSE 9.2) | x86_64 | OK | OK | |
| Linux (SUSE 10.1) | x86_64 | OK | OK | ||
| Linux (SUSE 9.2) | i686 | OK | OK | ||
| Solaris 2.9 | sparc | OK | OK | ||
| Windows Server 2003 | x86_64 | OK | OK | OK | |
| Windows Server 2003 | NA | OK | ERROR | OK | |
| Mac OS X (10.4.6) | i686 | OK | [ OK ] | 
| Package: spikeLI | 
| Version: 1.3.0 | 
| Command: /Library/Frameworks/R.framework/Resources/bin/R CMD check spikeLI_1.3.0.tar.gz | 
| RetCode: 0 | 
| Time: 25.6 seconds | 
| Status: OK | 
| CheckDir: spikeLI.Rcheck | 
| Warnings: 0 | 
* checking for working latex ... OK * using log directory '/Users/biocbuild/2.0d/Rpacks/spikeLI.Rcheck' * using R version 2.5.0 Under development (unstable) (2006-10-21 r39702) * checking for file 'spikeLI/DESCRIPTION' ... OK * checking extension type ... Package * this is package 'spikeLI' version '1.3.0' * checking package dependencies ... OK * checking if this is a source package ... OK * checking whether package 'spikeLI' can be installed ... OK * checking package directory ... OK * checking for portable file names ... OK * checking for sufficient/correct file permissions ... OK * checking DESCRIPTION meta-information ... OK * checking top-level files ... OK * checking index information ... OK * checking package subdirectories ... OK * checking R files for syntax errors ... OK * checking R files for non-ASCII characters ... OK * checking whether the package can be loaded ... OK * checking whether the package can be loaded with stated dependencies ... OK * checking S3 generic/method consistency ... OK * checking replacement functions ... OK * checking foreign function calls ... OK * checking R code for possible problems ... OK * checking Rd files ... OK * checking Rd cross-references ... OK * checking for missing documentation entries ... OK * checking for code/documentation mismatches ... OK * checking Rd \usage sections ... OK * creating spikeLI-Ex.R ... OK * checking examples ... OK * checking package vignettes in 'inst/doc' ... OK * creating spikeLI-manual.tex ... OK * checking spikeLI-manual.tex ... OK
spikeLI.Rcheck/00install.out:
* Installing *source* package 'spikeLI' ...
** R
** data
** demo
** inst
** help
 >>> Building/Updating help pages for package 'spikeLI'
     Formats: text html latex example 
  IvsDG                             text    html    latex   example
  Ivsc                              text    html    latex   example
  SPIKE_IN                          text    html    latex   example
  SPIKE_IN95                        text    html    latex   example
  SPIKE_INA                         text    html    latex   example
  SPIKE_INB                         text    html    latex   example
  SPIKE_INH                         text    html    latex   example
  collapse                          text    html    latex   example
  conc133                           text    html    latex   example
  conc95                            text    html    latex   example
  hgu                               text    html    latex   example
  spikeLI.package                   text    html    latex
** building package indices ...
* DONE (spikeLI)