Back to the "Multiple platform build/check report"
| Package 151/208 | OS | Arch | BUILD | CHECK | BUILD BIN |
prada1.11.1Florian Hahne | Linux (SUSE 9.2) | x86_64 | ERROR | skipped | |
| Linux (SUSE 10.1) | x86_64 | ERROR | skipped | ||
| Linux (SUSE 9.2) | i686 | ERROR | skipped | ||
| Solaris 2.9 | sparc | ERROR | skipped | ||
| Windows Server 2003 | x86_64 | ERROR | skipped | skipped | |
| Windows Server 2003 | NA | ERROR | skipped | skipped | |
| Mac OS X (10.4.6) | i686 | OK | [ OK ] |
| Package: prada |
| Version: 1.11.1 |
| Command: /Library/Frameworks/R.framework/Resources/bin/R CMD check prada_1.11.1.tar.gz |
| RetCode: 0 |
| Time: 95.9 seconds |
| Status: OK |
| CheckDir: prada.Rcheck |
| Warnings: 0 |
* checking for working latex ... OK * using log directory '/Users/biocbuild/2.0d/Rpacks/prada.Rcheck' * using R version 2.5.0 Under development (unstable) (2006-10-21 r39702) * checking for file 'prada/DESCRIPTION' ... OK * this is package 'prada' version '1.11.1' * checking package dependencies ... OK * checking if this is a source package ... OK * checking whether package 'prada' can be installed ... OK * checking package directory ... OK * checking for portable file names ... OK * checking for sufficient/correct file permissions ... OK * checking DESCRIPTION meta-information ... OK * checking top-level files ... OK * checking index information ... OK * checking package subdirectories ... OK * checking R files for syntax errors ... OK * checking R files for non-ASCII characters ... OK * checking whether the package can be loaded ... OK * checking whether the package can be loaded with stated dependencies ... OK * checking whether the name space can be loaded with stated dependencies ... OK * checking S3 generic/method consistency ... OK * checking replacement functions ... OK * checking foreign function calls ... OK * checking R code for possible problems ... OK * checking Rd files ... OK * checking Rd cross-references ... OK * checking for missing documentation entries ... OK * checking for code/documentation mismatches ... OK * checking Rd \usage sections ... OK * checking for CRLF line endings in C/C++/Fortran sources/headers ... OK * checking for portable use of $BLAS_LIBS ... OK * creating prada-Ex.R ... OK * checking examples ... OK * checking package vignettes in 'inst/doc' ... OK * creating prada-manual.tex ... OK * checking prada-manual.tex ... OK
prada.Rcheck/00install.out:
* Installing *source* package 'prada' ...
** libs
** arch - i386
gcc-4.0 -arch i386 -I/Library/Frameworks/R.framework/Resources/include -I/Library/Frameworks/R.framework/Resources/include/i386 -msse3 -D__NO_MATH_INLINES -fPIC -g -O2 -std=gnu99 -march=pentium-m -mtune=prescott -c inPolygon.c -o inPolygon.o
/var/tmp//ccLokwME.s:460:indirect jmp without `*'
/var/tmp//ccLokwME.s:475:indirect jmp without `*'
/var/tmp//ccLokwME.s:490:indirect jmp without `*'
/var/tmp//ccLokwME.s:505:indirect jmp without `*'
/var/tmp//ccLokwME.s:520:indirect jmp without `*'
/var/tmp//ccLokwME.s:535:indirect jmp without `*'
/var/tmp//ccLokwME.s:550:indirect jmp without `*'
/var/tmp//ccLokwME.s:565:indirect jmp without `*'
/var/tmp//ccLokwME.s:580:indirect jmp without `*'
/var/tmp//ccLokwME.s:599:indirect jmp without `*'
/var/tmp//ccLokwME.s:614:indirect jmp without `*'
gcc-4.0 -arch i386 -dynamiclib -Wl,-macosx_version_min -Wl,10.3 -undefined dynamic_lookup -single_module -multiply_defined suppress -L/usr/local/lib -o prada.so inPolygon.o -F/Library/Frameworks/R.framework/.. -framework R
** arch - ppc
gcc-4.0 -arch ppc -std=gnu99 -I/Library/Frameworks/R.framework/Resources/include -I/Library/Frameworks/R.framework/Resources/include/ppc -I/usr/local/include -fPIC -g -O2 -c inPolygon.c -o inPolygon.o
gcc-4.0 -arch ppc -std=gnu99 -dynamiclib -Wl,-macosx_version_min -Wl,10.3 -undefined dynamic_lookup -single_module -multiply_defined suppress -L/usr/local/lib -o prada.so inPolygon.o -F/Library/Frameworks/R.framework/.. -framework R
** R
** data
** inst
** save image
Loading required package: Biobase
Loading required package: tools
Welcome to Bioconductor
Vignettes contain introductory material. To view, type
'openVignette()' or start with 'help(Biobase)'. For details
on reading vignettes, see the openVignette help page.
Loading required package: RColorBrewer
Loading required package: grid
Scalable Robust Estimators with High Breakdown Point (version 0.3-04)
KernSmooth 2.22 installed
Copyright M. P. Wand 1997
** preparing package for lazy loading
Loading required package: Biobase
Loading required package: tools
Welcome to Bioconductor
Vignettes contain introductory material. To view, type
'openVignette()' or start with 'help(Biobase)'. For details
on reading vignettes, see the openVignette help page.
Loading required package: RColorBrewer
Loading required package: grid
Scalable Robust Estimators with High Breakdown Point (version 0.3-04)
KernSmooth 2.22 installed
Copyright M. P. Wand 1997
** help
>>> Building/Updating help pages for package 'prada'
Formats: text html latex example
analysePlate text html latex example
as.all text html latex example
barploterrbar text html latex example
combineFrames text html latex example
csApply text html latex example
cytoFrame-class text html latex example
cytoSet-class text html latex example
data-cytoFrame text html latex example
data-cytoSet text html latex example
ddCt text html latex example
ddCtSet-class text html latex
devDims text html latex example
devRes text html latex example
eListWrite text html latex example
fitNorm2 text html latex example
gate-class text html latex example
gateSet-class text html latex example
getPradaPar text html latex example
new-internal text html latex
plotNorm2 text html latex example
plotPlate text html latex example
readCytoSet text html latex example
readFCS text html latex example
readFCSaux text html latex example
readSDM text html latex example
removeCensored text html latex example
tcltkProgress text html latex example
threePanelPlot text html latex example
thresholds text html latex example
touchFCS text html latex
vpLocation text html latex example
** building package indices ...
Loading required package: methods
* DONE (prada)