Back to the "Multiple platform build/check report"
| Package 138/208 | OS | Arch | BUILD | CHECK | BUILD BIN |
pairseqsim1.9.1Witold Wolski | Linux (SUSE 9.2) | x86_64 | OK | OK | |
| Linux (SUSE 10.1) | x86_64 | OK | OK | ||
| Linux (SUSE 9.2) | i686 | OK | OK | ||
| Solaris 2.9 | sparc | OK | OK | ||
| Windows Server 2003 | x86_64 | OK | OK | OK | |
| Windows Server 2003 | NA | OK | ERROR | OK | |
| Mac OS X (10.4.6) | i686 | OK | [ OK ] |
| Package: pairseqsim |
| Version: 1.9.1 |
| Command: /Library/Frameworks/R.framework/Resources/bin/R CMD check pairseqsim_1.9.1.tar.gz |
| RetCode: 0 |
| Time: 63.7 seconds |
| Status: OK |
| CheckDir: pairseqsim.Rcheck |
| Warnings: 0 |
* checking for working latex ... OK * using log directory '/Users/biocbuild/2.0d/Rpacks/pairseqsim.Rcheck' * using R version 2.5.0 Under development (unstable) (2006-10-21 r39702) * checking for file 'pairseqsim/DESCRIPTION' ... OK * this is package 'pairseqsim' version '1.9.1' * checking package dependencies ... OK * checking if this is a source package ... OK * checking whether package 'pairseqsim' can be installed ... OK * checking package directory ... OK * checking for portable file names ... OK * checking for sufficient/correct file permissions ... OK * checking DESCRIPTION meta-information ... OK * checking top-level files ... OK * checking index information ... OK * checking package subdirectories ... OK * checking R files for syntax errors ... OK * checking R files for non-ASCII characters ... OK * checking whether the package can be loaded ... OK * checking whether the package can be loaded with stated dependencies ... OK * checking S3 generic/method consistency ... OK * checking replacement functions ... OK * checking foreign function calls ... OK * checking R code for possible problems ... OK * checking Rd files ... OK * checking Rd cross-references ... OK * checking for missing documentation entries ... OK * checking for code/documentation mismatches ... OK * checking Rd \usage sections ... OK * checking for CRLF line endings in C/C++/Fortran sources/headers ... OK * checking for portable use of $BLAS_LIBS ... OK * creating pairseqsim-Ex.R ... OK * checking examples ... OK * checking package vignettes in 'inst/doc' ... OK * creating pairseqsim-manual.tex ... OK * checking pairseqsim-manual.tex ... OK
pairseqsim.Rcheck/00install.out:
* Installing *source* package 'pairseqsim' ...
** libs
** arch - i386
gcc-4.0 -arch i386 -I/Library/Frameworks/R.framework/Resources/include -I/Library/Frameworks/R.framework/Resources/include/i386 -msse3 -D__NO_MATH_INLINES -fPIC -g -O2 -std=gnu99 -march=pentium-m -mtune=prescott -c align.c -o align.o
/var/tmp//cceUJkUT.s:3769:indirect jmp without `*'
/var/tmp//cceUJkUT.s:3784:indirect jmp without `*'
/var/tmp//cceUJkUT.s:3799:indirect jmp without `*'
/var/tmp//cceUJkUT.s:3814:indirect jmp without `*'
/var/tmp//cceUJkUT.s:3829:indirect jmp without `*'
/var/tmp//cceUJkUT.s:3844:indirect jmp without `*'
/var/tmp//cceUJkUT.s:3859:indirect jmp without `*'
/var/tmp//cceUJkUT.s:3874:indirect jmp without `*'
/var/tmp//cceUJkUT.s:3889:indirect jmp without `*'
/var/tmp//cceUJkUT.s:3904:indirect jmp without `*'
/var/tmp//cceUJkUT.s:3919:indirect jmp without `*'
/var/tmp//cceUJkUT.s:3934:indirect jmp without `*'
/var/tmp//cceUJkUT.s:3949:indirect jmp without `*'
/var/tmp//cceUJkUT.s:3964:indirect jmp without `*'
gcc-4.0 -arch i386 -I/Library/Frameworks/R.framework/Resources/include -I/Library/Frameworks/R.framework/Resources/include/i386 -msse3 -D__NO_MATH_INLINES -fPIC -g -O2 -std=gnu99 -march=pentium-m -mtune=prescott -c basic.c -o basic.o
/var/tmp//cc1kypYF.s:1254:indirect jmp without `*'
/var/tmp//cc1kypYF.s:1269:indirect jmp without `*'
/var/tmp//cc1kypYF.s:1284:indirect jmp without `*'
/var/tmp//cc1kypYF.s:1299:indirect jmp without `*'
/var/tmp//cc1kypYF.s:1314:indirect jmp without `*'
/var/tmp//cc1kypYF.s:1329:indirect jmp without `*'
/var/tmp//cc1kypYF.s:1344:indirect jmp without `*'
gcc-4.0 -arch i386 -I/Library/Frameworks/R.framework/Resources/include -I/Library/Frameworks/R.framework/Resources/include/i386 -msse3 -D__NO_MATH_INLINES -fPIC -g -O2 -std=gnu99 -march=pentium-m -mtune=prescott -c callalign.c -o callalign.o
/var/tmp//cc2xXhG3.s:898:indirect jmp without `*'
/var/tmp//cc2xXhG3.s:913:indirect jmp without `*'
/var/tmp//cc2xXhG3.s:928:indirect jmp without `*'
/var/tmp//cc2xXhG3.s:943:indirect jmp without `*'
/var/tmp//cc2xXhG3.s:958:indirect jmp without `*'
/var/tmp//cc2xXhG3.s:977:indirect jmp without `*'
/var/tmp//cc2xXhG3.s:992:indirect jmp without `*'
/var/tmp//cc2xXhG3.s:1007:indirect jmp without `*'
/var/tmp//cc2xXhG3.s:1022:indirect jmp without `*'
/var/tmp//cc2xXhG3.s:1037:indirect jmp without `*'
/var/tmp//cc2xXhG3.s:1052:indirect jmp without `*'
/var/tmp//cc2xXhG3.s:1067:indirect jmp without `*'
/var/tmp//cc2xXhG3.s:1082:indirect jmp without `*'
/var/tmp//cc2xXhG3.s:1097:indirect jmp without `*'
/var/tmp//cc2xXhG3.s:1112:indirect jmp without `*'
/var/tmp//cc2xXhG3.s:1127:indirect jmp without `*'
/var/tmp//cc2xXhG3.s:1142:indirect jmp without `*'
/var/tmp//cc2xXhG3.s:1157:indirect jmp without `*'
/var/tmp//cc2xXhG3.s:1172:indirect jmp without `*'
/var/tmp//cc2xXhG3.s:1187:indirect jmp without `*'
/var/tmp//cc2xXhG3.s:1202:indirect jmp without `*'
/var/tmp//cc2xXhG3.s:1217:indirect jmp without `*'
gcc-4.0 -arch i386 -dynamiclib -Wl,-macosx_version_min -Wl,10.3 -undefined dynamic_lookup -single_module -multiply_defined suppress -L/usr/local/lib -o pairseqsim.so align.o basic.o callalign.o -F/Library/Frameworks/R.framework/.. -framework R
** arch - ppc
gcc-4.0 -arch ppc -std=gnu99 -I/Library/Frameworks/R.framework/Resources/include -I/Library/Frameworks/R.framework/Resources/include/ppc -I/usr/local/include -fPIC -g -O2 -c align.c -o align.o
gcc-4.0 -arch ppc -std=gnu99 -I/Library/Frameworks/R.framework/Resources/include -I/Library/Frameworks/R.framework/Resources/include/ppc -I/usr/local/include -fPIC -g -O2 -c basic.c -o basic.o
gcc-4.0 -arch ppc -std=gnu99 -I/Library/Frameworks/R.framework/Resources/include -I/Library/Frameworks/R.framework/Resources/include/ppc -I/usr/local/include -fPIC -g -O2 -c callalign.c -o callalign.o
gcc-4.0 -arch ppc -std=gnu99 -dynamiclib -Wl,-macosx_version_min -Wl,10.3 -undefined dynamic_lookup -single_module -multiply_defined suppress -L/usr/local/lib -o pairseqsim.so align.o basic.o callalign.o -F/Library/Frameworks/R.framework/.. -framework R
** R
** data
** inst
** help
>>> Building/Updating help pages for package 'pairseqsim'
Formats: text html latex example
AAAlignment-class text html latex example
AAAlphabet-class text html latex example
AASequence-class text html latex example
AASequence text html latex example
AASequenceList-class text html latex example
EPAM110 text html latex example
Submatrix-class text html latex
listdist-methods text html latex
readFasta-methods text html latex example
salign-methods text html latex example
sequlist text html latex example
testalign-methods text html latex
** building package indices ...
* DONE (pairseqsim)