| 1.3.0Florian Markowetz | Linux (SUSE 9.2) | x86_64 | OK | OK |  | 
| Linux (SUSE 10.1) | x86_64 | OK | OK |  | 
| Linux (SUSE 9.2) | i686 | ERROR | skipped |  | 
| Solaris 2.9 | sparc | ERROR | skipped |  | 
| Windows Server 2003 | x86_64 | ERROR | skipped | skipped | 
| Windows Server 2003 | NA | ERROR | skipped | skipped | 
| Mac OS X (10.4.6) | i686 | [ OK ] | ERROR |  | 
* checking for file 'nem/DESCRIPTION' ... OK
* preparing 'nem':
* checking DESCRIPTION meta-information ... OK
* installing the package to re-build vignettes
* Installing *source* package 'nem' ...
** R
** data
** inst
** help
 >>> Building/Updating help pages for package 'nem'
     Formats: text html latex example 
  BoutrosRNAi2002                   text    html    latex   example
  FULLmLL                           text    html    latex   example
  SCCgraph                          text    html    latex   example
  enumerate.models                  text    html    latex   example
  local.model.prior                 text    html    latex   example
  mLL                               text    html    latex   example
  nem                               text    html    latex   example
  nem.discretize                    text    html    latex   example
  pairwise.posterior                text    html    latex   example
  plot.effects                      text    html    latex   example
  prune.graph                       text    html    latex   example
  score                             text    html    latex   example
  transitive.closure                text    html    latex   example
  transitive.reduction              text    html    latex   example
** building package indices ...
* DONE (nem)
* creating vignettes ... OK
* removing junk files
* checking for LF line-endings in source files
* checking for empty or unneeded directories
* building 'nem_1.3.0.tar.gz'