1.7.0Balasubramanian Narasimhan | Linux (SUSE 9.2)  | x86_64 |  OK  |  OK  |  | 
| Linux (SUSE 10.1)  | x86_64 |  OK  |  ERROR  |  | 
| Linux (SUSE 9.2)  | i686 |  OK  |  OK  |  | 
| Solaris 2.9  | sparc |  OK  |  ERROR  |  | 
| Windows Server 2003  | x86_64 |  OK  |  OK  |  OK  | 
| Windows Server 2003  | NA |  OK  |  ERROR  |  OK  | 
| Mac OS X (10.4.6)  | i686 | [ OK ] |  ERROR  |  | 
* checking for file 'impute/DESCRIPTION' ... OK
* preparing 'impute':
* checking DESCRIPTION meta-information ... OK
* cleaning src
* checking whether 'INDEX' is up-to-date ... NO
* use '--force' to overwrite the existing 'INDEX'
* removing junk files
* checking for LF line-endings in source files
* checking for empty or unneeded directories
* building 'impute_1.7.0.tar.gz'